BEGIN:VCALENDAR
VERSION:2.0
PRODID:-//Grünauer Kultursommer 2026 - ECPv6.15.15//NONSGML v1.0//EN
CALSCALE:GREGORIAN
METHOD:PUBLISH
X-ORIGINAL-URL:https://gruenauer-kultursommer.de
X-WR-CALDESC:Veranstaltungen für Grünauer Kultursommer 2026
REFRESH-INTERVAL;VALUE=DURATION:PT1H
X-Robots-Tag:noindex
X-PUBLISHED-TTL:PT1H
BEGIN:VTIMEZONE
TZID:Europe/Berlin
BEGIN:DAYLIGHT
TZOFFSETFROM:+0100
TZOFFSETTO:+0200
TZNAME:CEST
DTSTART:20220327T010000
END:DAYLIGHT
BEGIN:STANDARD
TZOFFSETFROM:+0200
TZOFFSETTO:+0100
TZNAME:CET
DTSTART:20221030T010000
END:STANDARD
BEGIN:DAYLIGHT
TZOFFSETFROM:+0100
TZOFFSETTO:+0200
TZNAME:CEST
DTSTART:20230326T010000
END:DAYLIGHT
BEGIN:STANDARD
TZOFFSETFROM:+0200
TZOFFSETTO:+0100
TZNAME:CET
DTSTART:20231029T010000
END:STANDARD
BEGIN:DAYLIGHT
TZOFFSETFROM:+0100
TZOFFSETTO:+0200
TZNAME:CEST
DTSTART:20240331T010000
END:DAYLIGHT
BEGIN:STANDARD
TZOFFSETFROM:+0200
TZOFFSETTO:+0100
TZNAME:CET
DTSTART:20241027T010000
END:STANDARD
END:VTIMEZONE
BEGIN:VEVENT
DTSTART;TZID=Europe/Berlin:20230710T150000
DTEND;TZID=Europe/Berlin:20230710T150000
DTSTAMP:20260424T191508
CREATED:20230524T124505Z
LAST-MODIFIED:20230524T124505Z
UID:3713-1689001200-1689001200@gruenauer-kultursommer.de
SUMMARY:"Die Welt durch die Augen ukrainischer Kinder"
DESCRIPTION:Vernissage zur Ausstellung der Malklasse von Natalya Kurulyk – Seit Dezember 2022 malen 17 ukrainische Kinder im Alter von 8-15 Jahren wöchentlich unter der Leitung der ukrainischen Kunstpädagogin Nathalia Kurulyk. Sie haben in dieser Zeit eindrückliche Bilder ihrer eigenen Lebensrealität erschaffen\, die jetzt ausgestellt werden. Und weil Farben und Malerei anstecken können\, gibt es natürlich auch die Möglichkeit selbst etwas auszuprobieren.
URL:https://gruenauer-kultursommer.de/veranstaltung/die-welt-durch-die-augen-ukrainischer-kinder/
LOCATION:Caritasverband Leipzig e.V. / Kinder-\, Jugend- und Familienzentrum\, Ringstr. 2\, Leipzig\, 04209\, Deutschland
CATEGORIES:Ausstellung,Begegnung & Diskussion
ATTACH;FMTTYPE=image/jpeg:https://gruenauer-kultursommer.de/wp-content/uploads/2023/05/06_29-Caritas_logo-1.jpg
END:VEVENT
END:VCALENDAR