BEGIN:VCALENDAR
VERSION:2.0
PRODID:-//Grünauer Kultursommer 2026 - ECPv6.15.15//NONSGML v1.0//EN
CALSCALE:GREGORIAN
METHOD:PUBLISH
X-WR-CALNAME:Grünauer Kultursommer 2026
X-ORIGINAL-URL:https://gruenauer-kultursommer.de
X-WR-CALDESC:Veranstaltungen für Grünauer Kultursommer 2026
REFRESH-INTERVAL;VALUE=DURATION:PT1H
X-Robots-Tag:noindex
X-PUBLISHED-TTL:PT1H
BEGIN:VTIMEZONE
TZID:Europe/Berlin
BEGIN:DAYLIGHT
TZOFFSETFROM:+0100
TZOFFSETTO:+0200
TZNAME:CEST
DTSTART:20220327T010000
END:DAYLIGHT
BEGIN:STANDARD
TZOFFSETFROM:+0200
TZOFFSETTO:+0100
TZNAME:CET
DTSTART:20221030T010000
END:STANDARD
BEGIN:DAYLIGHT
TZOFFSETFROM:+0100
TZOFFSETTO:+0200
TZNAME:CEST
DTSTART:20230326T010000
END:DAYLIGHT
BEGIN:STANDARD
TZOFFSETFROM:+0200
TZOFFSETTO:+0100
TZNAME:CET
DTSTART:20231029T010000
END:STANDARD
BEGIN:DAYLIGHT
TZOFFSETFROM:+0100
TZOFFSETTO:+0200
TZNAME:CEST
DTSTART:20240331T010000
END:DAYLIGHT
BEGIN:STANDARD
TZOFFSETFROM:+0200
TZOFFSETTO:+0100
TZNAME:CET
DTSTART:20241027T010000
END:STANDARD
BEGIN:DAYLIGHT
TZOFFSETFROM:+0100
TZOFFSETTO:+0200
TZNAME:CEST
DTSTART:20250330T010000
END:DAYLIGHT
BEGIN:STANDARD
TZOFFSETFROM:+0200
TZOFFSETTO:+0100
TZNAME:CET
DTSTART:20251026T010000
END:STANDARD
END:VTIMEZONE
BEGIN:VEVENT
DTSTART;TZID=Europe/Berlin:20240615T140000
DTEND;TZID=Europe/Berlin:20240615T190000
DTSTAMP:20260423T001925
CREATED:20240603T104613Z
LAST-MODIFIED:20240603T121818Z
UID:4001-1718460000-1718478000@gruenauer-kultursommer.de
SUMMARY:Grünauer Platzfest – „Sommer im Quartier“
DESCRIPTION:Platzfest & Flohmarkt. \nZum bereits dritten Mal in Folge findet das sommerliche Fest rund um den Marktplatz in Grünau-Mitte nun statt. Damit wollen wir an eine lange Tradition wiederkehrender Stadtteilfeste anknüpfen und uns von verschiedenen Formen in Nachbarschaften zu feiern inspirieren lassen.\nWir freuen uns auf ein vielfältiges\, kulturelles und unterhaltsames Programm\, aufgestellt durch viele Initiativen\, Grünauer und Grünauerinnen. Neben zahlreichen Ständen von verschiedenen Vereinen und interaktiven Mitmachangeboten\, gibt es ein mitreißendes Bühnenprogramm für Groß und Klein. Entlang der Stuttgarter Allee lädt erneut der Flohmarkt zum Stöbern ein. Im Kulturhaus Völkerfreundschaft ist an dem Tag die Ausstellung „Lebendige Stadterneuerung in Leipzig“ zu sehen\, die im vergangenen Sommer im Neuen Rathaus gezeigt wurde. Für Speis und Trank ist gesorgt\, auf dem Platzfest selbst und bei den kulinarischen Angeboten drumherum.\nAuf zum Marktplatz – für ein herzliches Beisammensein! \n 
URL:https://gruenauer-kultursommer.de/veranstaltung/gruenauer-platzfest-sommer-im-quartier/
LOCATION:Stuttgarter Allee / Marktplatz\, Stuttgarter Allee 21\, Leipzig\, 04209
CATEGORIES:Aktion zum Mitmachen,Begegnung & Diskussion,Familien- / Nachbarschaftsfest,Konzert,open air,Performance & Interaction,Tagesevent / Festival
ATTACH;FMTTYPE=image/jpeg:https://gruenauer-kultursommer.de/wp-content/uploads/2024/06/06_15-gks2024_gruenas_202406_platzfest_88x129_final_druck.jpg
END:VEVENT
BEGIN:VEVENT
DTSTART;TZID=Europe/Berlin:20230610T140000
DTEND;TZID=Europe/Berlin:20230610T210000
DTSTAMP:20260423T001925
CREATED:20230523T123310Z
LAST-MODIFIED:20230523T130609Z
UID:3549-1686405600-1686430800@gruenauer-kultursommer.de
SUMMARY:Straßenfest & Flohmarkt
DESCRIPTION:Straßenfest & Flohmarkt mit Künstler*innen\, Schau- & Ausstellern\, Grünauer Institutionen & Projekten.\nDas Straßenfest lädt alle Grünauer:innen und ihre Gäste zum Schlendern\, Mitmachen und Genießen ein und verwandelt die altbekannte Stuttgarter Allee und den Grünauer Markt von 14 bis 21 Uhr in eine bunt-belebte Flaniermeile. Denn dann feiern wir gemeinsam mit vielen Grünauer Akteur:innen\, Initiativen und Vereinen den zweiten „Sommer im Quartier“. Wie bereits im vergangenen Jahr begleitet das Straßenfest den Auftakt des „Grünauer Kultursommer“.\nZum Straßenfest erwartet die Besucher:innen erneut eine abwechslungsreiche Mischung aus Musik-\, Theater- und Tanzaufführungen auf einer zentralen Bühne sowie verschiedene Mitmachaktionen und Stände. Wie schon im letzten Jahr wird es auch wieder einen kleinen Flohmarkt geben\, auf dem die Menschen aus der Nachbarschaft ihre Schätze und Fundstücke feilbieten.\nWeitere Informationen und das gesamte Programm finden Sie auf den Webseiten des Grünauer Kultursommers und des Quartiersmanagements.\nSeien Sie dabei und läuten Sie mit uns einen schönen „Grünauer Kultursommer“ und den „Sommer im Quartier“ ein!
URL:https://gruenauer-kultursommer.de/veranstaltung/strassenfest-flohmarkt/
LOCATION:Stuttgarter Allee / Marktplatz\, Stuttgarter Allee 21\, Leipzig\, 04209
CATEGORIES:Aktion zum Mitmachen,Begegnung & Diskussion,Familien- / Nachbarschaftsfest,Konzert,open air,Performance & Interaction,Tagesevent / Festival
ATTACH;FMTTYPE=image/jpeg:https://gruenauer-kultursommer.de/wp-content/uploads/2023/05/PlakatA2_Strassenfest_page-0001.jpg
END:VEVENT
END:VCALENDAR