BEGIN:VCALENDAR
VERSION:2.0
PRODID:-//Grünauer Kultursommer 2026 - ECPv6.15.15//NONSGML v1.0//EN
CALSCALE:GREGORIAN
METHOD:PUBLISH
X-WR-CALNAME:Grünauer Kultursommer 2026
X-ORIGINAL-URL:https://gruenauer-kultursommer.de
X-WR-CALDESC:Veranstaltungen für Grünauer Kultursommer 2026
REFRESH-INTERVAL;VALUE=DURATION:PT1H
X-Robots-Tag:noindex
X-PUBLISHED-TTL:PT1H
BEGIN:VTIMEZONE
TZID:Europe/Berlin
BEGIN:DAYLIGHT
TZOFFSETFROM:+0100
TZOFFSETTO:+0200
TZNAME:CEST
DTSTART:20220327T010000
END:DAYLIGHT
BEGIN:STANDARD
TZOFFSETFROM:+0200
TZOFFSETTO:+0100
TZNAME:CET
DTSTART:20221030T010000
END:STANDARD
BEGIN:DAYLIGHT
TZOFFSETFROM:+0100
TZOFFSETTO:+0200
TZNAME:CEST
DTSTART:20230326T010000
END:DAYLIGHT
BEGIN:STANDARD
TZOFFSETFROM:+0200
TZOFFSETTO:+0100
TZNAME:CET
DTSTART:20231029T010000
END:STANDARD
BEGIN:DAYLIGHT
TZOFFSETFROM:+0100
TZOFFSETTO:+0200
TZNAME:CEST
DTSTART:20240331T010000
END:DAYLIGHT
BEGIN:STANDARD
TZOFFSETFROM:+0200
TZOFFSETTO:+0100
TZNAME:CET
DTSTART:20241027T010000
END:STANDARD
BEGIN:DAYLIGHT
TZOFFSETFROM:+0100
TZOFFSETTO:+0200
TZNAME:CEST
DTSTART:20250330T010000
END:DAYLIGHT
BEGIN:STANDARD
TZOFFSETFROM:+0200
TZOFFSETTO:+0100
TZNAME:CET
DTSTART:20251026T010000
END:STANDARD
END:VTIMEZONE
BEGIN:VEVENT
DTSTART;TZID=Europe/Berlin:20240615T183000
DTEND;TZID=Europe/Berlin:20240615T183000
DTSTAMP:20260424T192111
CREATED:20240603T103110Z
LAST-MODIFIED:20240612T121229Z
UID:3999-1718476200-1718476200@gruenauer-kultursommer.de
SUMMARY:Musik und Begegnung im Garten
DESCRIPTION:Zur Eröffnung des Grünauer Kultursommers 2024. \nMusik und Begegnung im Garten der Pauluskirche mit Sinti-Jazz\, zelebriert vom Ensemble Djangophon\, sowie einem Sektempfang\, unterstützt von der Johanniter-Hilfsgemeinschaft Leipzig. \n„Djangophon“ spielt Sinti-Swing\, eine temperamentvolle Facette des Jazz – voller Spielfreude und Improvisation\, Musik in der Tradition von Django Reinhardt und Stéphane Grappelli. Ein musikalischer Streifzug durch die Cafés und Tanzsäle von Paris vor 100 Jahren\, der mit Charme und Eleganz\, swingenden Rhythmen und herzerfrischender Nostalgie verzaubert.\nVioline: Magdalena Auenmüller\, Gitarre: Sebastian Ulbert und Tilman Zieschang\, Kontrabass: Stefan Scholz
URL:https://gruenauer-kultursommer.de/veranstaltung/musik-und-begegnung-im-garten-2/
LOCATION:Kirchgarten\, Ev.-Luth. Pauluskirche Leipzig-Grünau\, Alte Salzstraße 185\, Leipzig\, 04209
CATEGORIES:Begegnung & Diskussion,Konzert
ATTACH;FMTTYPE=image/jpeg:https://gruenauer-kultursommer.de/wp-content/uploads/2024/06/Schoenau_Turm_Photo-Matthias-Moebius.jpg
END:VEVENT
BEGIN:VEVENT
DTSTART;TZID=Europe/Berlin:20240615T170000
DTEND;TZID=Europe/Berlin:20240615T180000
DTSTAMP:20260424T192111
CREATED:20240603T101946Z
LAST-MODIFIED:20240612T121013Z
UID:4000-1718470800-1718474400@gruenauer-kultursommer.de
SUMMARY:„Guckt mal über´n Tellerrand“
DESCRIPTION:Eröffnungsveranstaltung des Grünauer Kultursommers 2024. \n„Guckt mal über´n Tellerrand“ – Ein Musical vom Wünschen\, Haben und Teilen. \nMusik und Text: Kurt Enßle.\nMehrgenerationen-Musiktheaterprojekt des Ökumenischen Kinder-Jugend- und Kammerchores der Grünauer Kirchgemeinden Paulus und St. Martin.\nOrchester; Leitung: Heiko Bär und Elke Zieschang. \n \n„Guckt mal über´n Tellerrand\, seht mal\, wie die andern leben …“ – und wir gehen auf die Reise um die Welt und wieder zurück. Namaste! Jambo! Buenos dias! Steigt ein in unser Flugzeug – Achtung festhalten und Augen und Ohren auf! \n 
URL:https://gruenauer-kultursommer.de/veranstaltung/guckt-mal-uebern-tellerrand/
LOCATION:Ev.-Luth. Pauluskirche Leipzig-Grünau\, Alte Salzstraße 185\, Leipzig\, 04209
CATEGORIES:Begegnung & Diskussion,Konzert,Theater
ATTACH;FMTTYPE=image/jpeg:https://gruenauer-kultursommer.de/wp-content/uploads/2024/06/Schoenau_Altargemaelde_400-J-Barock_Photo-Matthias-Moebius.jpg
END:VEVENT
BEGIN:VEVENT
DTSTART;TZID=Europe/Berlin:20230610T183000
DTEND;TZID=Europe/Berlin:20230610T183000
DTSTAMP:20260424T192111
CREATED:20230523T130122Z
LAST-MODIFIED:20230523T130122Z
UID:3563-1686421800-1686421800@gruenauer-kultursommer.de
SUMMARY:Musik und Begegnung im Garten
DESCRIPTION:Zur Eröffnung des Grünauer Kultursommers 2023 \nKlezmer Muskel Kater – 5 Länder\, 5 Kulturen\, 5 Menschen – verbunden durch die Sprache der Musik.
URL:https://gruenauer-kultursommer.de/veranstaltung/musik-und-begegnung-im-garten/
LOCATION:Kirchgarten\, Ev.-Luth. Pauluskirche Leipzig-Grünau\, Alte Salzstraße 185\, Leipzig\, 04209
CATEGORIES:Begegnung & Diskussion,Konzert
ATTACH;FMTTYPE=image/jpeg:https://gruenauer-kultursommer.de/wp-content/uploads/2023/05/06_10-GKS-Eroeffnung_Musik-und-Begegnung_Klezmer-Muskel-Kater_Rechte-beim-Ensemble-1.jpg
END:VEVENT
BEGIN:VEVENT
DTSTART;TZID=Europe/Berlin:20230610T170000
DTEND;TZID=Europe/Berlin:20230610T180000
DTSTAMP:20260424T192111
CREATED:20230523T125642Z
LAST-MODIFIED:20230523T131118Z
UID:3560-1686416400-1686420000@gruenauer-kultursommer.de
SUMMARY:Brundibár
DESCRIPTION:Eröffnungsveranstaltung des Grünauer Kultursommers 2023 \nOper für Kinder in zwei Akten- Theresienstädter Fassung (1943)\, Musik von Hans Krása (1899-1944)\, Libretto von Adolf Hoffmeister (1902-1973) in deutscher Textfassung von Frank Harders-Wuthenow und Matthias Harre. \nMehrgenerationen-Musiktheaterprojekt des Ökumenischen Kinder-Jugend- und Kammerchores der Grünauer Kirchgemeinden Paulus und St. Martin\, Leitung: Elke Zieschang & Ronja Sophie Putz\nEine Kinderoper mit zwei Geschichten. Zwei Kinder wollen ihrer kranken Mutter helfen\, stoßen auf große Widerstände\, erfahren Hilfe und Solidarität von ungeahnter Seite und Freundschaft\, die trägt.\nDie andere Geschichte – leidvolle Realität in der Zeit des Nationalsozialismus: „Brundibár“ wurde 1943/1944 von jüdischen Kindern und Musikern im KZ Theresienstadt zahlreiche Male aufgeführt. Die Oper half den inhaftierten Spielern und Zuschauern\, Not und Entbehrungen im Ghetto-Alltag kurzzeitig zu vergessen\, die Hoffnung auf eine gerechte Welt und die Kraft zum Weiterleben zu bewahren. \n(Foto: Matthias Möbius)
URL:https://gruenauer-kultursommer.de/veranstaltung/brundibar/
LOCATION:Ev.-Luth. Pauluskirche Leipzig-Grünau\, Alte Salzstraße 185\, Leipzig\, 04209
CATEGORIES:Theater
ATTACH;FMTTYPE=image/jpeg:https://gruenauer-kultursommer.de/wp-content/uploads/2023/05/Pauluskirche-Leipzig-Gruenau-und-Wiese_Photo-Matthias-Moebius2.jpg
END:VEVENT
END:VCALENDAR