BEGIN:VCALENDAR
VERSION:2.0
PRODID:-//Grünauer Kultursommer 2026 - ECPv6.15.15//NONSGML v1.0//EN
CALSCALE:GREGORIAN
METHOD:PUBLISH
X-WR-CALNAME:Grünauer Kultursommer 2026
X-ORIGINAL-URL:https://gruenauer-kultursommer.de
X-WR-CALDESC:Veranstaltungen für Grünauer Kultursommer 2026
REFRESH-INTERVAL;VALUE=DURATION:PT1H
X-Robots-Tag:noindex
X-PUBLISHED-TTL:PT1H
BEGIN:VTIMEZONE
TZID:Europe/Berlin
BEGIN:DAYLIGHT
TZOFFSETFROM:+0100
TZOFFSETTO:+0200
TZNAME:CEST
DTSTART:20240331T010000
END:DAYLIGHT
BEGIN:STANDARD
TZOFFSETFROM:+0200
TZOFFSETTO:+0100
TZNAME:CET
DTSTART:20241027T010000
END:STANDARD
BEGIN:DAYLIGHT
TZOFFSETFROM:+0100
TZOFFSETTO:+0200
TZNAME:CEST
DTSTART:20250330T010000
END:DAYLIGHT
BEGIN:STANDARD
TZOFFSETFROM:+0200
TZOFFSETTO:+0100
TZNAME:CET
DTSTART:20251026T010000
END:STANDARD
BEGIN:DAYLIGHT
TZOFFSETFROM:+0100
TZOFFSETTO:+0200
TZNAME:CEST
DTSTART:20260329T010000
END:DAYLIGHT
BEGIN:STANDARD
TZOFFSETFROM:+0200
TZOFFSETTO:+0100
TZNAME:CET
DTSTART:20261025T010000
END:STANDARD
END:VTIMEZONE
BEGIN:VEVENT
DTSTART;TZID=Europe/Berlin:20250905T150000
DTEND;TZID=Europe/Berlin:20250905T190000
DTSTAMP:20260420T161610
CREATED:20250712T121729Z
LAST-MODIFIED:20250712T121729Z
UID:4800-1757084400-1757098800@gruenauer-kultursommer.de
SUMMARY:Interkulturelles Nachbarschaftsfest 2025
DESCRIPTION:Gemeinsam mit benachbarten Projekten\, Ehrenamtlichen und Läden der Alten Salzstraße veranstalten wir ein kleines interkulturelles Nachbarschaftsfest.\nIhr könnt an den Ständen aktiv und kreativ werden\, in den Austausch kommen\, euch kulinarisch verwöhnen lassen und vor allem Nachbar*innen treffen. Ein kleines Kulturprogramm mit DJ*s und Tanz wird auch geboten.
URL:https://gruenauer-kultursommer.de/veranstaltung/interkulturelles-nachbarschaftsfest-2025/
LOCATION:Heizhaus Leipzig – Mehrgenerationentreff Nebenan\, Alte Salzstraße 53\, Leipzig\, 04209
CATEGORIES:Aktion zum Mitmachen,Begegnung & Diskussion,Familien- / Nachbarschaftsfest,open air
ATTACH;FMTTYPE=image/jpeg:https://gruenauer-kultursommer.de/wp-content/uploads/2025/07/09_05-KUT_240911_InterkultNachbarschaftsfest_Blog.jpg
END:VEVENT
END:VCALENDAR