BEGIN:VCALENDAR
VERSION:2.0
PRODID:-//Grünauer Kultursommer 2026 - ECPv6.15.15//NONSGML v1.0//EN
CALSCALE:GREGORIAN
METHOD:PUBLISH
X-ORIGINAL-URL:https://gruenauer-kultursommer.de
X-WR-CALDESC:Veranstaltungen für Grünauer Kultursommer 2026
REFRESH-INTERVAL;VALUE=DURATION:PT1H
X-Robots-Tag:noindex
X-PUBLISHED-TTL:PT1H
BEGIN:VTIMEZONE
TZID:Europe/Berlin
BEGIN:DAYLIGHT
TZOFFSETFROM:+0100
TZOFFSETTO:+0200
TZNAME:CEST
DTSTART:20210328T010000
END:DAYLIGHT
BEGIN:STANDARD
TZOFFSETFROM:+0200
TZOFFSETTO:+0100
TZNAME:CET
DTSTART:20211031T010000
END:STANDARD
BEGIN:DAYLIGHT
TZOFFSETFROM:+0100
TZOFFSETTO:+0200
TZNAME:CEST
DTSTART:20220327T010000
END:DAYLIGHT
BEGIN:STANDARD
TZOFFSETFROM:+0200
TZOFFSETTO:+0100
TZNAME:CET
DTSTART:20221030T010000
END:STANDARD
BEGIN:DAYLIGHT
TZOFFSETFROM:+0100
TZOFFSETTO:+0200
TZNAME:CEST
DTSTART:20230326T010000
END:DAYLIGHT
BEGIN:STANDARD
TZOFFSETFROM:+0200
TZOFFSETTO:+0100
TZNAME:CET
DTSTART:20231029T010000
END:STANDARD
BEGIN:DAYLIGHT
TZOFFSETFROM:+0100
TZOFFSETTO:+0200
TZNAME:CEST
DTSTART:20240331T010000
END:DAYLIGHT
BEGIN:STANDARD
TZOFFSETFROM:+0200
TZOFFSETTO:+0100
TZNAME:CET
DTSTART:20241027T010000
END:STANDARD
BEGIN:DAYLIGHT
TZOFFSETFROM:+0100
TZOFFSETTO:+0200
TZNAME:CEST
DTSTART:20250330T010000
END:DAYLIGHT
BEGIN:STANDARD
TZOFFSETFROM:+0200
TZOFFSETTO:+0100
TZNAME:CET
DTSTART:20251026T010000
END:STANDARD
END:VTIMEZONE
BEGIN:VEVENT
DTSTART;TZID=Europe/Berlin:20240924T150000
DTEND;TZID=Europe/Berlin:20240924T180000
DTSTAMP:20260419T154437
CREATED:20240827T075628Z
LAST-MODIFIED:20240827T075628Z
UID:4406-1727190000-1727200800@gruenauer-kultursommer.de
SUMMARY:Kennenlerntreff Makerspace Grünau
DESCRIPTION:Wir bauen zusammen erste Einrichtungsgegenstände und bereiten die große Eröffnung am 28.09. vor. Du hast eine Idee oder Lust mitzumachen? Dann komm beim Kennenlerntreff vorbei und gestalte mit! Jeden Dienstag 15-18 Uhr.\n(Foto: CC-BY-ND 4.0\, Anika Dollmeyer für die „Maker Days for Kids“)
URL:https://gruenauer-kultursommer.de/veranstaltung/kennenlerntreff-makerspace-gruenau-5/
LOCATION:Leipziger Modellschule\, Ludwigsburger Str. 9\, Leipzig\, 04209
CATEGORIES:Aktion zum Mitmachen,Begegnung & Diskussion,Kurs / Workshop
ATTACH;FMTTYPE=image/jpeg:https://gruenauer-kultursommer.de/wp-content/uploads/2024/08/08_27-Maker-Days-for-Kids-Leipzig-2023_Impression158_CC-BY-ND-4.0-Anika-Dollmeyer-fuer-die-Maker-Days-for-Kids-muss-als-Urheber-genannt-werden-keine-Veraenderung-erlaubt.jpg
END:VEVENT
BEGIN:VEVENT
DTSTART;TZID=Europe/Berlin:20240917T150000
DTEND;TZID=Europe/Berlin:20240917T180000
DTSTAMP:20260419T154437
CREATED:20240827T075512Z
LAST-MODIFIED:20240827T075512Z
UID:4407-1726585200-1726596000@gruenauer-kultursommer.de
SUMMARY:Kennenlerntreff Makerspace Grünau
DESCRIPTION:Wir bauen zusammen erste Einrichtungsgegenstände und bereiten die große Eröffnung am 28.09. vor. Du hast eine Idee oder Lust mitzumachen? Dann komm beim Kennenlerntreff vorbei und gestalte mit! Jeden Dienstag 15-18 Uhr.\n(Foto: CC-BY-ND 4.0\, Anika Dollmeyer für die „Maker Days for Kids“)
URL:https://gruenauer-kultursommer.de/veranstaltung/kennenlerntreff-makerspace-gruenau-4/
LOCATION:Leipziger Modellschule\, Ludwigsburger Str. 9\, Leipzig\, 04209
CATEGORIES:Aktion zum Mitmachen,Begegnung & Diskussion,Kurs / Workshop
ATTACH;FMTTYPE=image/jpeg:https://gruenauer-kultursommer.de/wp-content/uploads/2024/08/08_27-Maker-Days-for-Kids-Leipzig-2023_Impression158_CC-BY-ND-4.0-Anika-Dollmeyer-fuer-die-Maker-Days-for-Kids-muss-als-Urheber-genannt-werden-keine-Veraenderung-erlaubt.jpg
END:VEVENT
BEGIN:VEVENT
DTSTART;TZID=Europe/Berlin:20240910T150000
DTEND;TZID=Europe/Berlin:20240910T180000
DTSTAMP:20260419T154437
CREATED:20240827T075019Z
LAST-MODIFIED:20240827T075019Z
UID:4408-1725980400-1725991200@gruenauer-kultursommer.de
SUMMARY:Kennenlerntreff Makerspace Grünau
DESCRIPTION:Wir bauen zusammen erste Einrichtungsgegenstände und bereiten die große Eröffnung am 28.09. vor. Du hast eine Idee oder Lust mitzumachen? Dann komm beim Kennenlerntreff vorbei und gestalte mit! Jeden Dienstag 15-18 Uhr.\n(Foto: CC-BY-ND 4.0\, Anika Dollmeyer für die „Maker Days for Kids“)
URL:https://gruenauer-kultursommer.de/veranstaltung/kennenlerntreff-makerspace-gruenau-3/
LOCATION:Leipziger Modellschule\, Ludwigsburger Str. 9\, Leipzig\, 04209
CATEGORIES:Aktion zum Mitmachen,Begegnung & Diskussion,Kurs / Workshop
ATTACH;FMTTYPE=image/jpeg:https://gruenauer-kultursommer.de/wp-content/uploads/2024/08/08_27-Maker-Days-for-Kids-Leipzig-2023_Impression158_CC-BY-ND-4.0-Anika-Dollmeyer-fuer-die-Maker-Days-for-Kids-muss-als-Urheber-genannt-werden-keine-Veraenderung-erlaubt.jpg
END:VEVENT
BEGIN:VEVENT
DTSTART;TZID=Europe/Berlin:20240903T150000
DTEND;TZID=Europe/Berlin:20240903T180000
DTSTAMP:20260419T154437
CREATED:20240827T074858Z
LAST-MODIFIED:20240827T074858Z
UID:4404-1725375600-1725386400@gruenauer-kultursommer.de
SUMMARY:Kennenlerntreff Makerspace Grünau
DESCRIPTION:Wir bauen zusammen erste Einrichtungsgegenstände und bereiten die große Eröffnung am 28.09. vor. Du hast eine Idee oder Lust mitzumachen? Dann komm beim Kennenlerntreff vorbei und gestalte mit! Jeden Dienstag 15-18 Uhr.\n(Foto: CC-BY-ND 4.0\, Anika Dollmeyer für die „Maker Days for Kids“)
URL:https://gruenauer-kultursommer.de/veranstaltung/kennenlerntreff-makerspace-gruenau-2/
LOCATION:Leipziger Modellschule\, Ludwigsburger Str. 9\, Leipzig\, 04209
CATEGORIES:Aktion zum Mitmachen,Begegnung & Diskussion,Kurs / Workshop
ATTACH;FMTTYPE=image/jpeg:https://gruenauer-kultursommer.de/wp-content/uploads/2024/08/08_27-Maker-Days-for-Kids-Leipzig-2023_Impression158_CC-BY-ND-4.0-Anika-Dollmeyer-fuer-die-Maker-Days-for-Kids-muss-als-Urheber-genannt-werden-keine-Veraenderung-erlaubt.jpg
END:VEVENT
BEGIN:VEVENT
DTSTART;TZID=Europe/Berlin:20240827T150000
DTEND;TZID=Europe/Berlin:20240827T180000
DTSTAMP:20260419T154437
CREATED:20240827T074538Z
LAST-MODIFIED:20240827T074538Z
UID:4400-1724770800-1724781600@gruenauer-kultursommer.de
SUMMARY:Kennenlerntreff Makerspace Grünau
DESCRIPTION:Wir bauen zusammen erste Einrichtungsgegenstände und bereiten die große Eröffnung am 28.09. vor. Du hast eine Idee oder Lust mitzumachen? Dann komm beim Kennenlerntreff vorbei und gestalte mit! Jeden Dienstag 15-18 Uhr.\n(Foto: CC-BY-ND 4.0\, Anika Dollmeyer für die „Maker Days for Kids“)
URL:https://gruenauer-kultursommer.de/veranstaltung/kennenlerntreff-makerspace-gruenau/
LOCATION:Leipziger Modellschule\, Ludwigsburger Str. 9\, Leipzig\, 04209
CATEGORIES:Aktion zum Mitmachen,Begegnung & Diskussion,Kurs / Workshop
ATTACH;FMTTYPE=image/jpeg:https://gruenauer-kultursommer.de/wp-content/uploads/2024/08/08_27-Maker-Days-for-Kids-Leipzig-2023_Impression158_CC-BY-ND-4.0-Anika-Dollmeyer-fuer-die-Maker-Days-for-Kids-muss-als-Urheber-genannt-werden-keine-Veraenderung-erlaubt.jpg
END:VEVENT
BEGIN:VEVENT
DTSTART;TZID=Europe/Berlin:20220709T110000
DTEND;TZID=Europe/Berlin:20220709T160000
DTSTAMP:20260419T154437
CREATED:20220623T103055Z
LAST-MODIFIED:20220701T100035Z
UID:2720-1657364400-1657382400@gruenauer-kultursommer.de
SUMMARY:Sommerfest der Leipziger Modellschule
DESCRIPTION:Am Samstag\, den 09. Juli 2022 lädt die Leipziger Modellschule ganz herzlich zum Sommerfest auf der großen Wiese neben dem Allee Center ein! \n+++ \nVor ein paar Wochen ist die Leipziger Modellschule (LEMO) in ihre Räume im Allee-Center eingezogen und damit in Grünau angekommen. Das heißt auch\, dass die Aktivitäten rund um unseren kunterbunten Regenbogen-Container und dem grünen Schulhof immer mehr werden. Mit unserem kleinen Sommerfest wollen die kleinen und großen LEMOs den Sommer begrüßen und „Hallo“ zur Nachbarschaft sagen. Es gibt Musik\, eine Tanzaufführung\, etwas zu Trinken und zu Essen. Kommt vorbei und feiert mit – wir freuen uns!
URL:https://gruenauer-kultursommer.de/veranstaltung/sommerfest-der-leipziger-modellschule/
LOCATION:Wiese neben dem Allee Center\, Ludwigsburger Straße 9\, Leipzig\, Sachsen\, 04209\, Deutschland
CATEGORIES:Aktion zum Mitmachen,Begegnung & Diskussion,Familien- / Nachbarschaftsfest,Tagesevent / Festival
ATTACH;FMTTYPE=image/png:https://gruenauer-kultursommer.de/wp-content/uploads/2022/06/LEMO-Sommerfest-2022.png
END:VEVENT
BEGIN:VEVENT
DTSTART;TZID=Europe/Berlin:20220705T103000
DTEND;TZID=Europe/Berlin:20220708T170000
DTSTAMP:20260419T154437
CREATED:20220630T151320Z
LAST-MODIFIED:20221206T122841Z
UID:2752-1657017000-1657299600@gruenauer-kultursommer.de
SUMMARY:Wir machen einen Makerspace - bastel mit! // Tüfteln\, bauen\, ausprobieren
DESCRIPTION:Vom 05. – 08. Juli kann auf der Wiese neben dem Allee Center in Grünau getüftelt\, gebastelt und ausprobiert werden. Das Ganze ist ein Projekt der Leipziger Modell- Lebens- und Bildungsraum e.V. \n+++ \nIn Grünau entsteht bald eine große Mitmach-Werkstatt – ein Ort fürs kreative Entwerfen\, Bauen und Reparieren von Dingen. Hier tüfteln Jung und Alt gemeinsam an eigenen Ideen\, ersten Prototypen oder sogar richtigen Produkten. Aus Holz\, Metall\, Textil\, Elektronik\, digitaler Technik… Wir starten schon einmal draußen auf der Wiese neben dem Allee-Center\, denken uns zusammen tolle Ideen für eigene Maker-Projekte aus und basteln an der Einrichtung für unseren zukünftigen Makerspace. Komm vorbei und werde Teil der Grünauer Maker-Gemeinschaft! \nWichtige Infos zu den Uhrzeiten:\nImmer von 10.30 – 13.00 Uhr und 14.00 – 17.00 Uhr \n+++ \nQuelle: Public Workshop\nFotograf: Alex Gilliam
URL:https://gruenauer-kultursommer.de/veranstaltung/wir-machen-einen-makerspace-bastel-mit-tuefteln-bauen-ausprobieren/
LOCATION:Wiese neben dem Allee Center\, Ludwigsburger Straße 9\, Leipzig\, Sachsen\, 04209\, Deutschland
CATEGORIES:Aktion zum Mitmachen,Familien- / Nachbarschaftsfest,Kurs / Workshop
ATTACH;FMTTYPE=image/jpeg:https://gruenauer-kultursommer.de/wp-content/uploads/2022/06/Alex-Gilliam-Public-Workshop.jpg
END:VEVENT
END:VCALENDAR