BEGIN:VCALENDAR
VERSION:2.0
PRODID:-//Grünauer Kultursommer 2026 - ECPv6.15.15//NONSGML v1.0//EN
CALSCALE:GREGORIAN
METHOD:PUBLISH
X-ORIGINAL-URL:https://gruenauer-kultursommer.de
X-WR-CALDESC:Veranstaltungen für Grünauer Kultursommer 2026
REFRESH-INTERVAL;VALUE=DURATION:PT1H
X-Robots-Tag:noindex
X-PUBLISHED-TTL:PT1H
BEGIN:VTIMEZONE
TZID:Europe/Berlin
BEGIN:DAYLIGHT
TZOFFSETFROM:+0100
TZOFFSETTO:+0200
TZNAME:CEST
DTSTART:20220327T010000
END:DAYLIGHT
BEGIN:STANDARD
TZOFFSETFROM:+0200
TZOFFSETTO:+0100
TZNAME:CET
DTSTART:20221030T010000
END:STANDARD
BEGIN:DAYLIGHT
TZOFFSETFROM:+0100
TZOFFSETTO:+0200
TZNAME:CEST
DTSTART:20230326T010000
END:DAYLIGHT
BEGIN:STANDARD
TZOFFSETFROM:+0200
TZOFFSETTO:+0100
TZNAME:CET
DTSTART:20231029T010000
END:STANDARD
BEGIN:DAYLIGHT
TZOFFSETFROM:+0100
TZOFFSETTO:+0200
TZNAME:CEST
DTSTART:20240331T010000
END:DAYLIGHT
BEGIN:STANDARD
TZOFFSETFROM:+0200
TZOFFSETTO:+0100
TZNAME:CET
DTSTART:20241027T010000
END:STANDARD
END:VTIMEZONE
BEGIN:VEVENT
DTSTART;TZID=Europe/Berlin:20230816T140000
DTEND;TZID=Europe/Berlin:20230816T140000
DTSTAMP:20260424T173156
CREATED:20230712T140313Z
LAST-MODIFIED:20230720T143732Z
UID:3783-1692194400-1692194400@gruenauer-kultursommer.de
SUMMARY:"Mokka süß - auf und ab in Europa"
DESCRIPTION:Erzählungen – Die Autorin JUTTA PILLAT liest zwei Geschichten aus ihrem Erzählband von Reisen in Europa. Begleitet von Reiner Schubert.
URL:https://gruenauer-kultursommer.de/veranstaltung/mokka-suess-auf-und-ab-in-europa/
LOCATION:AWO Beratungszentrum\, Stuttgarter Allee 18\, Leipzig\, 04209\, Deutschland
CATEGORIES:Lesung
ATTACH;FMTTYPE=image/jpeg:https://gruenauer-kultursommer.de/wp-content/uploads/2023/07/08_16-mokka-süss_.jpg
END:VEVENT
END:VCALENDAR