BEGIN:VCALENDAR
VERSION:2.0
PRODID:-//Grünauer Kultursommer 2026 - ECPv6.15.15//NONSGML v1.0//EN
CALSCALE:GREGORIAN
METHOD:PUBLISH
X-ORIGINAL-URL:https://gruenauer-kultursommer.de
X-WR-CALDESC:Veranstaltungen für Grünauer Kultursommer 2026
REFRESH-INTERVAL;VALUE=DURATION:PT1H
X-Robots-Tag:noindex
X-PUBLISHED-TTL:PT1H
BEGIN:VTIMEZONE
TZID:Europe/Berlin
BEGIN:DAYLIGHT
TZOFFSETFROM:+0100
TZOFFSETTO:+0200
TZNAME:CEST
DTSTART:20210328T010000
END:DAYLIGHT
BEGIN:STANDARD
TZOFFSETFROM:+0200
TZOFFSETTO:+0100
TZNAME:CET
DTSTART:20211031T010000
END:STANDARD
BEGIN:DAYLIGHT
TZOFFSETFROM:+0100
TZOFFSETTO:+0200
TZNAME:CEST
DTSTART:20220327T010000
END:DAYLIGHT
BEGIN:STANDARD
TZOFFSETFROM:+0200
TZOFFSETTO:+0100
TZNAME:CET
DTSTART:20221030T010000
END:STANDARD
BEGIN:DAYLIGHT
TZOFFSETFROM:+0100
TZOFFSETTO:+0200
TZNAME:CEST
DTSTART:20230326T010000
END:DAYLIGHT
BEGIN:STANDARD
TZOFFSETFROM:+0200
TZOFFSETTO:+0100
TZNAME:CET
DTSTART:20231029T010000
END:STANDARD
END:VTIMEZONE
BEGIN:VEVENT
DTSTART;TZID=Europe/Berlin:20220911T100000
DTEND;TZID=Europe/Berlin:20220911T180000
DTSTAMP:20260423T062936
CREATED:20220630T143114Z
LAST-MODIFIED:20220824T112856Z
UID:2812-1662890400-1662919200@gruenauer-kultursommer.de
SUMMARY:Industriekultur erleben – Vergangenheit und Zukunft verbinden
DESCRIPTION:Im Rahmen der Leipziger Tage der Industriekultur\, des Tags des offenen Denkmals 2022 und des Grünauer Kultursommers werden am 11. September 2022 ab 10 Uhr der Park und seine industriekulturelle und Denkmalsbedeutung ins Bewusstsein der Stadt(teil)öffentlichkeit gerückt. \nVon 10 – 18 Uhr gibt es an diesem Tag ein tolles und vielfältiges Programm rund um die industrielle – und Denkmal-Geschichte des Robert-Koch-Parks: \n10:00 Uhr  // Eröffnung\n11 und 14 Uhr // Führungen durch Schloss und Park zum Tag des offenen Denkmals\n14 bis 17 Uhr // Lederwerkstatt im Haus 4\n15:00 Uhr //  Bastelbogenaktion „historische Parkgebäude“ im Haus 4\n15:30 bis 16:30 Uhr // Vortrag von Dr. Enrico Ruge-Hochmuth (HTWK) zur Sächsisch-Thüringischen Industrie- und Gewerbeausstellung 1897 in Leipzig\n16:30 Uhr // Posaunenbläser der Grünauer Pauluskirchgemeinde\nab 17:00 Uhr // Filmsequenzen zur Geschichte der Fa. Rud. Sack/BBG/AMAZONE sowie des historischen Parks \nganztags:  \n\nAusstellung moderner Landtechnik von BBG/AMAZONE und alter Landtechnik: historische Pflüge der Fa. Rud. Sack\nPorträtfotos von Sascha Koch an historischen Parkstandorten im Foyer des Schlosses\nInformationstafeln von Siegfried Pögel zur Geschichte Fa. Rud. Sack/BBG/AMAZONE\nKlanginstallation des Objektbauers Erwin Stache „Um die Eggen hören“\nMitmachaktionen\, Wissenswertes und Unterhaltung an verschiedenen Ständen – erinnernd an historische Bauwerke im Park\n\n+++ \nNeben den Führungen durch Park und Schloss können Besucherinnen und Besucher einen besonderen Rundgang durch den Park unternehmen: \nAuf der Wiese vor dem Schloss wird mit verschiedenen Aktionsangeboten und Ständen an die ursprünglichen Nutzungen einiger historischer Standorte im Park erinnert – mit Bildern\, informativen Texten\, entsprechenden Requisiten\, Mitmachangeboten und Präsentationen. Dazu gehören Kegelbahn\, Schwimmbad und Bootshaus – auch schon vor 100 Jahren wurden diese Orte genutzt sowohl von den hier wohnenden Familien als auch von den dort Arbeitenden und Angestellten sowie von Besuchern aus der Umgebung.\nNatürlich darf an dem Tag der direkte Bezug zur Landmaschinenproduktion nicht fehlen\, denn die Entwicklung begann mit dem ersten Gespannpflug aus Stahl von Rud. Sack 1864 und findet heute ihre kontinuierliche Fortsetzung in den Werkhallen von BBG/AMAZONE in unmittelbarer Nähe von Grünau. So sind die AMAZONE-Werke wieder mit modernen Landmaschinen und Landtechnikfreunde mit alten Sackpflügen dabei. \nAls ehemaliger BBG/AMAZONE-Mitarbeiter steht Siegfried Pögel als kompetenter Gesprächspartner zur Verfügung und präsentiert seine Ausstellungstafeln zur Firmengeschichte. \nDer überregional bekannte Klangkünstler Erwin Stache nahm 2021 das Thema Landmaschinen auf\, erhielt von den AMAZONE-Werken Teile von Landmaschinen und baute eine entsprechende klangvolle Installation\, die nach ihrer Weiterentwicklung nun präsentiert wird. \nNeben einem Vortrag von Dr. Enrico Ruge-Hochmuth (HTWK) zur Sächsisch-Thüringischen Industrie- und Gewerbeausstellung 1897 werden Filmsequenzen zur Geschichte der Fa. Rud. Sack sowie des historischen Parks gezeigt. \nNach dem Rundgang können sich die Besucherinnen und Besucher mit Kaffee und Kuchen ‒selbstgebacken von den Frauen des Komm e.V. ‒ stärken\, ins Gespräch kommen mit Nachfahren von Rud. Sack\, ihre Eindrücke austauschen sowie Gedanken und Wünsche zur Zukunft des Areals zum Ausdruck bringen. \nIm Haus 4 ‒ dem damaligen Wohnhaus der Pelzgroßhandelsfamilie Thorer-Sack ‒ richtet das soziokulturelle Zentrum und Mehrgenerationenhaus Haus Steinstraße e.V. eine Lederwerkstatt ein\, um Buchumschläge und Geldbörsen herzustellen. Mit einem Bastelbogen zum Robert-Koch-Park können die historischen Häuser des Parks nachgebaut und individuell gestaltet werden. \nZum Ausklang spielen die Posaunenbläser der Grünauer Pauluskirchgemeinde. \n+++ \nVeranstalter: Komm e.V. und soziokulturelles Zentrum KOMM-Haus\nin enger Zusammenarbeit mit: Volkshochschule Leipzig\, Stiftung Bürger für Leipzig\, LeipzigGrün\, BBG/AMAZONE\, Verein Industriekultur Leipzig\, Haus Steinstraße e.V.\, Erwin Stache – Komponist\, Klangkünstler und Objektebauer\, Nachfahren von Rud. Sack\nGefördert vom Kulturamt der Stadt Leipzig \n  \n+++ \nWeitere industriekulturelle Veranstaltungen im Schlosspark:\n9.9.2022 // 20:00 Uhr: GlobaLE „We are all Detroit“ (Open-Air-Kino)\n10.9.2022 // 16:00 Uhr: Vortrag von Autor und Stadtführer Sebastian Ringel: „Vom Wandel der Leipziger Vorstädte“ – Leipzig und die Sächsisch-Thüringische Industrie- und Gewerbeausstellung // Tickets: 6 €\, ermäßigt 4 €\n10.9.2022 // 19:00 Uhr: Dokfilm von Tilo Esche „Das Erbe des Dr. Heine“ (Open-Air) // Tickets: 6 €\, ermäßigt 4 €
URL:https://gruenauer-kultursommer.de/veranstaltung/industriekultur-erleben-vergangenheit-und-zukunft-verbinden/
LOCATION:Robert-Koch-Park\, Leipzig
CATEGORIES:Aktion zum Mitmachen,Familien- / Nachbarschaftsfest,Tagesevent / Festival
ATTACH;FMTTYPE=image/jpeg:https://gruenauer-kultursommer.de/wp-content/uploads/2022/06/20210912_170939-scaled.jpg
END:VEVENT
END:VCALENDAR