BEGIN:VCALENDAR
VERSION:2.0
PRODID:-//Grünauer Kultursommer 2026 - ECPv6.15.15//NONSGML v1.0//EN
CALSCALE:GREGORIAN
METHOD:PUBLISH
X-WR-CALNAME:Grünauer Kultursommer 2026
X-ORIGINAL-URL:https://gruenauer-kultursommer.de
X-WR-CALDESC:Veranstaltungen für Grünauer Kultursommer 2026
REFRESH-INTERVAL;VALUE=DURATION:PT1H
X-Robots-Tag:noindex
X-PUBLISHED-TTL:PT1H
BEGIN:VTIMEZONE
TZID:Europe/Berlin
BEGIN:DAYLIGHT
TZOFFSETFROM:+0100
TZOFFSETTO:+0200
TZNAME:CEST
DTSTART:20210328T010000
END:DAYLIGHT
BEGIN:STANDARD
TZOFFSETFROM:+0200
TZOFFSETTO:+0100
TZNAME:CET
DTSTART:20211031T010000
END:STANDARD
BEGIN:DAYLIGHT
TZOFFSETFROM:+0100
TZOFFSETTO:+0200
TZNAME:CEST
DTSTART:20220327T010000
END:DAYLIGHT
BEGIN:STANDARD
TZOFFSETFROM:+0200
TZOFFSETTO:+0100
TZNAME:CET
DTSTART:20221030T010000
END:STANDARD
BEGIN:DAYLIGHT
TZOFFSETFROM:+0100
TZOFFSETTO:+0200
TZNAME:CEST
DTSTART:20230326T010000
END:DAYLIGHT
BEGIN:STANDARD
TZOFFSETFROM:+0200
TZOFFSETTO:+0100
TZNAME:CET
DTSTART:20231029T010000
END:STANDARD
BEGIN:DAYLIGHT
TZOFFSETFROM:+0100
TZOFFSETTO:+0200
TZNAME:CEST
DTSTART:20240331T010000
END:DAYLIGHT
BEGIN:STANDARD
TZOFFSETFROM:+0200
TZOFFSETTO:+0100
TZNAME:CET
DTSTART:20241027T010000
END:STANDARD
BEGIN:DAYLIGHT
TZOFFSETFROM:+0100
TZOFFSETTO:+0200
TZNAME:CEST
DTSTART:20250330T010000
END:DAYLIGHT
BEGIN:STANDARD
TZOFFSETFROM:+0200
TZOFFSETTO:+0100
TZNAME:CET
DTSTART:20251026T010000
END:STANDARD
BEGIN:DAYLIGHT
TZOFFSETFROM:+0100
TZOFFSETTO:+0200
TZNAME:CEST
DTSTART:20260329T010000
END:DAYLIGHT
BEGIN:STANDARD
TZOFFSETFROM:+0200
TZOFFSETTO:+0100
TZNAME:CET
DTSTART:20261025T010000
END:STANDARD
END:VTIMEZONE
BEGIN:VEVENT
DTSTART;TZID=Europe/Berlin:20250815T170000
DTEND;TZID=Europe/Berlin:20250815T220000
DTSTAMP:20260419T184603
CREATED:20250711T075008Z
LAST-MODIFIED:20250711T080211Z
UID:4731-1755277200-1755295200@gruenauer-kultursommer.de
SUMMARY:BEATZ IM BLOCK // Schönauer Parkfest 2025
DESCRIPTION:WERK 2\, KOMM-Haus\, Heizhaus präsentieren:\nBEATZ IM BLOCK \n+++ \nZückt den roten Marker und taggt euch den 15. August 2025 im Kalender! 🎉 \nBeatz im Block feiert 10jährigen Birthday! \nGrünau wird kochen und wir sind hyped auf das zehnjährige von Beatz im Block – dem fettesten Hip Hop Festival in der City! \nFreut euch auf ein mega Line-up mit Künstler*innen\, die nicht nur mit ihren Beatz überzeugen\, sondern auch für Gleichberechtigung und gegen Diskriminierung einstehen. Und das ist noch nicht alles! An unseren coolen Infoständen könnt ihr euch über spannende Initiativen und Projekte informieren\, quatschen\, neue Leute kennenlernen und selbst aktiv werden. \nKommt vorbei\, bringt eure Friends mit und lasst uns gemeinsam den fettesten 10jährigen Geburtstag feiern\, den ein Festival jemals gefeiert hat! Wir haben Bock! Es gibt neben den regulären Tickets (22\,-€ zzgl.Gebühren) auch Soli-Tickets – watch out at your OFT ;o) \nLineup: \nALYZAH\nOb sie natürliche Weiblichkeit zelebriert\, mit sexuellen Vorlieben teast oder ihrem multikulturellen Background eine Bühne gibt: Mit Selbstbewusstsein und lyrischer Raffinesse bringt ALYZAH die Fans auf ihre ganz eigene Frequenz und lässt so ihre Geschichten zu denen ihrer Hörer*innen werden. ALYZAHs Faible für 90s und 2000s HipHop\, R&B und House kommt dabei immer wieder in nuanciert eingesetzten Verweisen zur Geltung \nDEA BBZ\nNeu im Game\, aber mit einem Selbstbewusstsein der Größten ist Dea Bbz im letzten Jahr auf der Bildfläche aufgetaucht. Sie liefert Auf-Die-Fresse-Rap aus Berlin mit einer Prise englischer Würze. Geprägt von ihrer Jugendzeit in Manchester\, wo sie das Straßenleben hautnah erlebte\, fühlt sie sich vor allem im UK-Drill Sound zuhause. \nJENNY SHARP reißt konstant ab: ob auf Tour mit der Antilopen Gang oder im Club. Von ihrer eigenen Sendung »Sharp Radio« hat sie sich auf namhafte Bühnen des Fusion\, splash! und Kosmonaut Festivals gespielt und das mit jeder Menge Skills\, Style und Sharpness. \nBANGERFABRIQUE ist ein Kollektiv aus Hamburg\, das sich aus der langen und engen Freundschaft von Emmamaelo\, Nebou\, Melle\, Celia\, Schwesta Sehra und Roof zusammensetzt. Mit der einzigartigen Kombination aus Dj’ing\, Mc’ing und Rap will bangerfabrique ein Erlebnis voller Spaß und Freude schaffen -so get loose and shake your ass! \nPÖBEL MC ist mittlerweile einer der respektiertesten Rapper des deutschsprachigen Raumes\, was nicht zuletzt an seiner unbestreitbaren Live-Präsenz liegt. Mit einer einzigartigen Kombination aus grenzenloser Power\, tiefgreifenden Inhalten und Empowerment\, spielt er sich von feuchten Kellergemäuern autonomer Jugendzentren in ausverkaufte Konzertsäle von stattlicher Größe. Das Konzert-gewordene Hybrid aus Punchline-Gewitter\, gesellschaftskritischer Lehrstunde und Bierdusche ist ein Place To Be. \n+++ \nEinlass: 17:00 Uhr // Beginn: 18.00 Uhr \nTickets: \n// Soli-Tickets gibt´s beim Ticket-Deale Eures Vertrauens ;o)\n// vollzahlend: 22\,00€ zzgl. Gebühren \nTickets online kaufen:\nhttps://www.tixforgigs.com/ \n+++\nAktuelle Infos gibt es hier auf Instagram: https://www.instagram.com/beatzimblock/ \nund unter werk-2.de
URL:https://gruenauer-kultursommer.de/veranstaltung/beatz-im-block-schoenauer-parkfest-2025-2/
LOCATION:Schönauer Park\, Leipzig
CATEGORIES:Konzert,open air
ATTACH;FMTTYPE=image/jpeg:https://gruenauer-kultursommer.de/wp-content/uploads/2025/07/08_15-BiB2.jpg
END:VEVENT
BEGIN:VEVENT
DTSTART;TZID=Europe/Berlin:20240830T140000
DTEND;TZID=Europe/Berlin:20240830T190000
DTSTAMP:20260419T184603
CREATED:20240712T083530Z
LAST-MODIFIED:20240827T082258Z
UID:4297-1725026400-1725044400@gruenauer-kultursommer.de
SUMMARY:Interkulturelles Nachbarschaftsfest 2024
DESCRIPTION:Der Mehrgenerationentreff NEBENAN an lädt im Rahmen der Interkulturellen Wochen Leipzig zum Interkulturellen Nachbarschaftsfest 2024 auf der Alten Salzstraße 52-62. Mit zahlreichen Angeboten und Infoständen verschiedener Akteur*innen der Alten Salzstraße und benachbarter Grünauer Projekte (von Kuchenbasar über Kreatives bis Tischtennis und Kinderschminken) sowie kleinem Kulturprogramm mit Tanz\, Theater\, DJ*s und Disko.
URL:https://gruenauer-kultursommer.de/veranstaltung/interkulturelles-nachbarschaftsfest-2024/
LOCATION:Heizhaus Leipzig – Mehrgenerationentreff Nebenan\, Alte Salzstraße 53\, Leipzig\, 04209
CATEGORIES:Aktion zum Mitmachen,Begegnung & Diskussion,Familien- / Nachbarschaftsfest,Konzert,open air
ATTACH;FMTTYPE=image/jpeg:https://gruenauer-kultursommer.de/wp-content/uploads/2024/07/08_30-Nachbarschaftsfest.jpg
END:VEVENT
BEGIN:VEVENT
DTSTART;TZID=Europe/Berlin:20240816T170000
DTEND;TZID=Europe/Berlin:20240816T220000
DTSTAMP:20260419T184603
CREATED:20240619T130919Z
LAST-MODIFIED:20240704T161344Z
UID:4209-1723827600-1723845600@gruenauer-kultursommer.de
SUMMARY:BEATZ IM BLOCK // Schönauer Parkfest 2024
DESCRIPTION:WERK 2\, KOMM-Haus\, Heizhaus und rausgegangen präsentieren am Freitag\, dem 16. August 2024 im Schönauer Park: BEATZ IM BLOCK! \n+++ \nSei dabei beim coolsten One-Day-Festival in Leipzig!\nZückt den roten Marker und taggt euch den 16. August 2024 im Kalender. Grünau wird kochen und wir freuen uns auf Beatz im Block\, das fetteste Hip Hop Festival in der Hood. Neben dem Bühnenprogramm mit vielfältigen\nKünstler*innen\, die sich sowohl mit ihrer Musik als auch ihrem Handeln gegen Diskriminierung und für ein gleichberechtigtes Miteinander einsetzen\, warten auch spannende Infostände von politisch und gesellschaftlich aktiven Initiativen\, Vereinen und Projekten auf euch. Hier könnt ihr euch informieren\, quatschen\, vernetzen und selbst aktiv werden. \nLineup: \nYUNG FSK18\nMit ihrer unverwechselbar rotzigen\, aber sexy Art und wildem Visual Content dazu\, den sie größtenteils selbst konzipiert und gestaltet\, war und ist sie prägende Akteurin des sexpositiv feministischen Raps in Deutschland. \nNEROMUN\n„Mein Anspruch war\, R’n’B auf Deutsch zu machen\, ohne dass es cringy ist.“ Klingt erstmal bescheiden\, ist es aber nicht\, was ein Blick in die deutschen Charts deutlich macht. \njolle\nIhre Musik fängt die Zwischentöne menschlicher Emotionen perfekt ein und führt zugleich zurück auf die nächtlichen Großstadtstraßen\, auf denen\ndas Leben sich zwischen blinkenden Lichtern\, glasigen Augen und wummernden Bässen abspielt. \nSavvy\nMit seiner Art zu schreiben und dabei Bilder zu malen\, macht der in Friedrichshain aufgewachsene Rapper nachdenkliche und selbstreflektierte Musik\, während er sich mit den Realitäten seiner Generation auseinandersetzt. \nFuturebae\nNahezu selbstverständlich kombiniert sie elektronische 80s-Einflüsse\, sphärische Trap-Sounds und R&B zu einem ästhetischen Klangbild –\nSommerliche Dancefloor-Vibes und Pop-Ohrwürmer laden hier nicht nur zum Tanzen\, sondern auch zum Fühlen ein. \n+++ \nEinlass: 17:00 Uhr // Beginn: 18.00 Uhr \nTickets: \n// ermäßigt: 13\,00€ zzgl. Gebühren für Student:innen\, Azubis\, FSJler:innen\, Bundesfreiwillge und Leipzig Pass-Inhaber:innen\n// vollzahlend: 17\,00€ zzgl. Gebühren \nTickets online kaufen:\nhttps://www.tixforgigs.com/ \n+++\nAktuelle Infos gibt es hier auf Instagram: https://www.instagram.com/beatzimblock/ \nund unter werk-2.de
URL:https://gruenauer-kultursommer.de/veranstaltung/beatz-im-block-schoenauer-parkfest-2024/
LOCATION:Schönauer Park\, Leipzig
CATEGORIES:Konzert,open air
ATTACH;FMTTYPE=image/jpeg:https://gruenauer-kultursommer.de/wp-content/uploads/2024/06/08_16-Beatz_Post-save-the-date.jpg
END:VEVENT
BEGIN:VEVENT
DTSTART;TZID=Europe/Berlin:20220826T170000
DTEND;TZID=Europe/Berlin:20220826T220000
DTSTAMP:20260419T184603
CREATED:20220707T170432Z
LAST-MODIFIED:20220707T170432Z
UID:2980-1661533200-1661551200@gruenauer-kultursommer.de
SUMMARY:BEATZ IM BLOCK // Schönauer Parkfest 2022
DESCRIPTION:WERK 2\, KOMM-Haus\, Heizhaus und die Völkerfreundschaft präsentieren am Freitag\, den 26. August 2022 im Schönauer Park: BEATZ IM BLOCK! \n+++ \nDas schönste 1-Tages Festival Grünaus präsentiert euch – wie immer – Rapper:innen mit Haltung\, Anspruch und einfach Bock\, mit euch eine tip-top Zeit zu haben. Ohne Eistee und eigener Pizza\, dafür mit Live-Action! \nHeadliner:innen: BABYJOY\, LIZ\, Audio88 & Yassin \nBABYJOY\nEine starke Newcomerin bringt seit 2018 frischen Wind in die deutsche und die französische HipHop-Szene. BABYJOY singt\, seit sie denken kann\, und begann als kleines Kind bereits\, Klavier zu spielen. Ihre eigene Musik macht sie zwar erst\, seit sie etwa 18 Jahre alt ist\, jedoch bewegt sich die nun 21-Jährige längst wie ein Profi im Rap-Game.\nSie switcht von schwerelosen RnB-Sounds zu Trap\, geht von Rap nahtlos in den Gesang über und schafft es so\, sich mit ihrer Art von der Masse abzuheben. Das auch\, weil sie sich keinem Genre zuordnen lässt. Sie hat sich eine eigene Nische eingerichtet\, die versatiler nicht sein könnte. \nLIZ\nAls LIZ mit dem Tape die Bildfläche betrat\, kam das einem anarchistischen Performance- Kunstwerk gleich\, das alles andere als gefällig war. LIZ und ihre Musik sind laut\, unbequem\, umgezügelt und unzähmbar. Es brachte ihr das Prädikat „Deutschraps Rotstift“ ein\, der alles rausstreicht und korrigiert\, was in der Szene nicht benötigt wird. Und die Leute liebten es. Es war eine perfekte unperfekte Premiere einer Künstlerin\, die kompromisslos sie selbst ist und doch Raum für Entwicklung zulässt. \nIhr nun im Frühjahr 2022 erscheinendes Debütalbum „Mona Liza“ ist der Beweis dafür. Und natürlich erscheint es im Winter. Das ist immer noch Räubermusik\, du weißt! \nAudio88 & Yassin\nEndlich wieder vereint mit der Welt! Ab Frühjahr 2022 werden sich alle nach zwei Jahren Bühnenabstinenz in den Armen liegen und gemeinsam die Texte von TODESLISTE und BACK IM GAME VOL. 1 brüllen bis zur kollektiven Ekstase! Team Abriss ist zurück in dem Spiel drin! \n+++ \nEinlass 17 Uhr // Beginn: 17.30 Uhr \nTickets: \n// ermäßigt: 12\,00€ zzgl. Gebühren für Student:innen\, Azubis\, FSJler:innen\, Bundesfreiwillge und Leipzig Pass-Inhaber:innen\n// vollzahlend: 16\,00€ zzgl. Gebühren \nTickets online kaufen:\nhttps://www.tixforgigs.com/Event/36976 \n+++\nAktuelle Infos gibt es hier auf Instagram: https://www.instagram.com/beatzimblock/ \nund unter werk-2.de
URL:https://gruenauer-kultursommer.de/veranstaltung/beatz-im-block-schoenauer-parkfest-2022/
LOCATION:Schönauer Park\, Leipzig
CATEGORIES:Konzert,open air
END:VEVENT
BEGIN:VEVENT
DTSTART;VALUE=DATE:20220718
DTEND;VALUE=DATE:20220724
DTSTAMP:20260419T184603
CREATED:20220505T120205Z
LAST-MODIFIED:20220523T111521Z
UID:2429-1658109600-1658541599@gruenauer-kultursommer.de
SUMMARY:West Side Stories | Tanz-Ferien-Camp im HEIZHAUS
DESCRIPTION:In der ersten Woche der Sommerferien lädt das HEIZHAUS  gemeinsam mit Mandy Unger & Laura Wilmer zum 5-tägigen Tanzworkshop ein! \n+++ \nDas Feriencamp und Tanztheaterprojekt ‚West Side Stories‘ bietet Kindern und Jugendlichen zwischen 11 und 18 Jahren die Möglichkeit innerhalb einer Woche verschiedene Tanzworkshops im Heizhaus zu besuchen. Vom 18.-22.7.2022 bieten wir eine Mischung aus Hip Hop\, Zeitgenössischen Tanz und Tanztheater an. Nebenbei erkunden wir die Stadtteile Grünau\, Plagwitz und Lindenau und schauen uns Tanz- und Theaterstücke im LOFFT – DAS THEATER an! \n*ganztägig mit Übernachtung und Verpflegung \n+++ \nZusatzinfo: Wenn ihr mitmachen möchtet\, dann meldet euch bitte  bis zum 01.07.2022 hier an. tanzen@heizhaus-leipzig.de
URL:https://gruenauer-kultursommer.de/veranstaltung/west-side-stories-tanz-ferien-camp-im-heizhaus/
LOCATION:Heizhaus Leipzig\, Alte Salzstraße 63\, Leipzig\, 04209
CATEGORIES:Aktion zum Mitmachen,Tanz,Theater
ATTACH;FMTTYPE=image/jpeg:https://gruenauer-kultursommer.de/wp-content/uploads/2022/05/weareonline-14-scaled.jpg
END:VEVENT
END:VCALENDAR