BEGIN:VCALENDAR
VERSION:2.0
PRODID:-//Grünauer Kultursommer 2026 - ECPv6.15.15//NONSGML v1.0//EN
CALSCALE:GREGORIAN
METHOD:PUBLISH
X-WR-CALNAME:Grünauer Kultursommer 2026
X-ORIGINAL-URL:https://gruenauer-kultursommer.de
X-WR-CALDESC:Veranstaltungen für Grünauer Kultursommer 2026
REFRESH-INTERVAL;VALUE=DURATION:PT1H
X-Robots-Tag:noindex
X-PUBLISHED-TTL:PT1H
BEGIN:VTIMEZONE
TZID:Europe/Berlin
BEGIN:DAYLIGHT
TZOFFSETFROM:+0100
TZOFFSETTO:+0200
TZNAME:CEST
DTSTART:20230326T010000
END:DAYLIGHT
BEGIN:STANDARD
TZOFFSETFROM:+0200
TZOFFSETTO:+0100
TZNAME:CET
DTSTART:20231029T010000
END:STANDARD
BEGIN:DAYLIGHT
TZOFFSETFROM:+0100
TZOFFSETTO:+0200
TZNAME:CEST
DTSTART:20240331T010000
END:DAYLIGHT
BEGIN:STANDARD
TZOFFSETFROM:+0200
TZOFFSETTO:+0100
TZNAME:CET
DTSTART:20241027T010000
END:STANDARD
BEGIN:DAYLIGHT
TZOFFSETFROM:+0100
TZOFFSETTO:+0200
TZNAME:CEST
DTSTART:20250330T010000
END:DAYLIGHT
BEGIN:STANDARD
TZOFFSETFROM:+0200
TZOFFSETTO:+0100
TZNAME:CET
DTSTART:20251026T010000
END:STANDARD
END:VTIMEZONE
BEGIN:VEVENT
DTSTART;TZID=Europe/Berlin:20240913T150000
DTEND;TZID=Europe/Berlin:20240913T180000
DTSTAMP:20260422T210644
CREATED:20240721T100238Z
LAST-MODIFIED:20240721T100238Z
UID:4394-1726239600-1726250400@gruenauer-kultursommer.de
SUMMARY:GRAND BEAUTY SALON
DESCRIPTION:Dein GRAND BEAUTY SALON ist ein transkultureller Salon für Schönes\, Diversität und Dialog in Leipzig-Grünau\, zum Wohlfühlen\, Austauschen und Dich neu entdecken.\nWir feiern Diversität. Hier leben Empathie und Solidarität. Sei Du selbst und lerne anderes kennen. Wir sind offen für Dich. Was gibst Du zurück? \nFast jeden Freitagnachmittag zwischen 15 – 18 Uhr kannst Du Dich beim BEAUTY EXCHANGE oder beim LADIES SALON von uns inspirieren\, verwöhnen und beraten lassen: \nHaare schneiden oder stylen\, schminken\, Augenbrauen formen oder Gesichter massieren – es ist für jede:n etwas dabei. \nJedoch nicht später als 17 Uhr. Damit noch Zeit für unseren BEAUTY EXCHANGE bleibt. Die Teilnahme ist kostenlos. \nCheck unser Programm\, um zu sehen\, wann Du uns wo treffen kannst.
URL:https://gruenauer-kultursommer.de/veranstaltung/grand-beauty-salon-5/
LOCATION:Völkerfreundschaft (Völle)\, Stuttgarter Allee 9\, Leipzig\, 04209\, Deutschland
CATEGORIES:Aktion zum Mitmachen,Begegnung & Diskussion,Sonstiges
ATTACH;FMTTYPE=image/jpeg:https://gruenauer-kultursommer.de/wp-content/uploads/2024/07/08_02-GrandBeauty.jpg
END:VEVENT
BEGIN:VEVENT
DTSTART;TZID=Europe/Berlin:20240906T150000
DTEND;TZID=Europe/Berlin:20240906T180000
DTSTAMP:20260422T210644
CREATED:20240721T100207Z
LAST-MODIFIED:20240721T100207Z
UID:4392-1725634800-1725645600@gruenauer-kultursommer.de
SUMMARY:GRAND BEAUTY SALON
DESCRIPTION:Dein GRAND BEAUTY SALON ist ein transkultureller Salon für Schönes\, Diversität und Dialog in Leipzig-Grünau\, zum Wohlfühlen\, Austauschen und Dich neu entdecken.\nWir feiern Diversität. Hier leben Empathie und Solidarität. Sei Du selbst und lerne anderes kennen. Wir sind offen für Dich. Was gibst Du zurück? \nFast jeden Freitagnachmittag zwischen 15 – 18 Uhr kannst Du Dich beim BEAUTY EXCHANGE oder beim LADIES SALON von uns inspirieren\, verwöhnen und beraten lassen: \nHaare schneiden oder stylen\, schminken\, Augenbrauen formen oder Gesichter massieren – es ist für jede:n etwas dabei. \nJedoch nicht später als 17 Uhr. Damit noch Zeit für unseren BEAUTY EXCHANGE bleibt. Die Teilnahme ist kostenlos. \nCheck unser Programm\, um zu sehen\, wann Du uns wo treffen kannst.
URL:https://gruenauer-kultursommer.de/veranstaltung/grand-beauty-salon-4/
LOCATION:Völkerfreundschaft (Völle)\, Stuttgarter Allee 9\, Leipzig\, 04209\, Deutschland
CATEGORIES:Aktion zum Mitmachen,Begegnung & Diskussion,Sonstiges
ATTACH;FMTTYPE=image/jpeg:https://gruenauer-kultursommer.de/wp-content/uploads/2024/07/08_02-GrandBeauty.jpg
END:VEVENT
BEGIN:VEVENT
DTSTART;TZID=Europe/Berlin:20240830T150000
DTEND;TZID=Europe/Berlin:20240830T180000
DTSTAMP:20260422T210644
CREATED:20240705T113944Z
LAST-MODIFIED:20240705T113944Z
UID:4275-1725030000-1725040800@gruenauer-kultursommer.de
SUMMARY:GRAND BEAUTY SALON - Ladies Salon
DESCRIPTION:Dein GRAND BEAUTY SALON ist ein transkultureller Salon für Schönes\, Diversität und Dialog in Leipzig-Grünau\, zum Wohlfühlen\, Austauschen und Dich neu entdecken.\nWir feiern Diversität. Hier leben Empathie und Solidarität. Sei Du selbst und lerne anderes kennen. Wir sind offen für Dich. Was gibst Du zurück? \nFast jeden Freitagnachmittag zwischen 15 – 18 Uhr kannst Du Dich beim BEAUTY EXCHANGE oder beim LADIES SALON von uns inspirieren\, verwöhnen und beraten lassen: \nHaare schneiden oder stylen\, schminken\, Augenbrauen formen oder Gesichter massieren – es ist für jede:n etwas dabei. \nJedoch nicht später als 17 Uhr. Damit noch Zeit für unseren BEAUTY EXCHANGE bleibt. Die Teilnahme ist kostenlos. \nCheck unser Programm\, um zu sehen\, wann Du uns wo treffen kannst.
URL:https://gruenauer-kultursommer.de/veranstaltung/grand-beauty-salon-ladies-salon/
LOCATION:Völkerfreundschaft (Völle)\, Stuttgarter Allee 9\, Leipzig\, 04209\, Deutschland
CATEGORIES:Aktion zum Mitmachen,Begegnung & Diskussion,Sonstiges
ATTACH;FMTTYPE=image/jpeg:https://gruenauer-kultursommer.de/wp-content/uploads/2024/07/08_02-GrandBeauty.jpg
END:VEVENT
BEGIN:VEVENT
DTSTART;TZID=Europe/Berlin:20240823T150000
DTEND;TZID=Europe/Berlin:20240823T180000
DTSTAMP:20260422T210644
CREATED:20240705T113725Z
LAST-MODIFIED:20240705T113725Z
UID:4273-1724425200-1724436000@gruenauer-kultursommer.de
SUMMARY:GRAND BEAUTY SALON zum Jugenddemokratiefest
DESCRIPTION:Dein GRAND BEAUTY SALON ist ein transkultureller Salon für Schönes\, Diversität und Dialog in Leipzig-Grünau\, zum Wohlfühlen\, Austauschen und Dich neu entdecken.\nWir feiern Diversität. Hier leben Empathie und Solidarität. Sei Du selbst und lerne anderes kennen. Wir sind offen für Dich. Was gibst Du zurück? \nFast jeden Freitagnachmittag zwischen 15 – 18 Uhr kannst Du Dich beim BEAUTY EXCHANGE oder beim LADIES SALON von uns inspirieren\, verwöhnen und beraten lassen: \nHaare schneiden oder stylen\, schminken\, Augenbrauen formen oder Gesichter massieren – es ist für jede:n etwas dabei. \nJedoch nicht später als 17 Uhr. Damit noch Zeit für unseren BEAUTY EXCHANGE bleibt. Die Teilnahme ist kostenlos. \nCheck unser Programm\, um zu sehen\, wann Du uns wo treffen kannst.
URL:https://gruenauer-kultursommer.de/veranstaltung/grand-beauty-salon-zum-jugenddemokratiefest/
LOCATION:Völkerfreundschaft (Völle)\, Stuttgarter Allee 9\, Leipzig\, 04209\, Deutschland
CATEGORIES:Aktion zum Mitmachen,Begegnung & Diskussion,Sonstiges
ATTACH;FMTTYPE=image/jpeg:https://gruenauer-kultursommer.de/wp-content/uploads/2024/07/08_02-GrandBeauty.jpg
END:VEVENT
BEGIN:VEVENT
DTSTART;TZID=Europe/Berlin:20240816T150000
DTEND;TZID=Europe/Berlin:20240816T180000
DTSTAMP:20260422T210644
CREATED:20240705T113635Z
LAST-MODIFIED:20240705T113635Z
UID:4270-1723820400-1723831200@gruenauer-kultursommer.de
SUMMARY:GRAND BEAUTY SALON
DESCRIPTION:Dein GRAND BEAUTY SALON ist ein transkultureller Salon für Schönes\, Diversität und Dialog in Leipzig-Grünau\, zum Wohlfühlen\, Austauschen und Dich neu entdecken.\nWir feiern Diversität. Hier leben Empathie und Solidarität. Sei Du selbst und lerne anderes kennen. Wir sind offen für Dich. Was gibst Du zurück? \nFast jeden Freitagnachmittag zwischen 15 – 18 Uhr kannst Du Dich beim BEAUTY EXCHANGE oder beim LADIES SALON von uns inspirieren\, verwöhnen und beraten lassen: \nHaare schneiden oder stylen\, schminken\, Augenbrauen formen oder Gesichter massieren – es ist für jede:n etwas dabei. \nJedoch nicht später als 17 Uhr. Damit noch Zeit für unseren BEAUTY EXCHANGE bleibt. Die Teilnahme ist kostenlos. \nCheck unser Programm\, um zu sehen\, wann Du uns wo treffen kannst.
URL:https://gruenauer-kultursommer.de/veranstaltung/grand-beauty-salon-3/
LOCATION:Völkerfreundschaft (Völle)\, Stuttgarter Allee 9\, Leipzig\, 04209\, Deutschland
CATEGORIES:Aktion zum Mitmachen,Begegnung & Diskussion,Sonstiges
ATTACH;FMTTYPE=image/jpeg:https://gruenauer-kultursommer.de/wp-content/uploads/2024/07/08_02-GrandBeauty.jpg
END:VEVENT
BEGIN:VEVENT
DTSTART;TZID=Europe/Berlin:20240809T150000
DTEND;TZID=Europe/Berlin:20240809T180000
DTSTAMP:20260422T210644
CREATED:20240705T113559Z
LAST-MODIFIED:20240705T113559Z
UID:4268-1723215600-1723226400@gruenauer-kultursommer.de
SUMMARY:GRAND BEAUTY SALON
DESCRIPTION:Dein GRAND BEAUTY SALON ist ein transkultureller Salon für Schönes\, Diversität und Dialog in Leipzig-Grünau\, zum Wohlfühlen\, Austauschen und Dich neu entdecken.\nWir feiern Diversität. Hier leben Empathie und Solidarität. Sei Du selbst und lerne anderes kennen. Wir sind offen für Dich. Was gibst Du zurück? \nFast jeden Freitagnachmittag zwischen 15 – 18 Uhr kannst Du Dich beim BEAUTY EXCHANGE oder beim LADIES SALON von uns inspirieren\, verwöhnen und beraten lassen: \nHaare schneiden oder stylen\, schminken\, Augenbrauen formen oder Gesichter massieren – es ist für jede:n etwas dabei. \nJedoch nicht später als 17 Uhr. Damit noch Zeit für unseren BEAUTY EXCHANGE bleibt. Die Teilnahme ist kostenlos. \nCheck unser Programm\, um zu sehen\, wann Du uns wo treffen kannst.
URL:https://gruenauer-kultursommer.de/veranstaltung/grand-beauty-salon-2/
LOCATION:Völkerfreundschaft (Völle)\, Stuttgarter Allee 9\, Leipzig\, 04209\, Deutschland
CATEGORIES:Aktion zum Mitmachen,Begegnung & Diskussion,Sonstiges
ATTACH;FMTTYPE=image/jpeg:https://gruenauer-kultursommer.de/wp-content/uploads/2024/07/08_02-GrandBeauty.jpg
END:VEVENT
BEGIN:VEVENT
DTSTART;TZID=Europe/Berlin:20240802T150000
DTEND;TZID=Europe/Berlin:20240802T180000
DTSTAMP:20260422T210644
CREATED:20240705T113144Z
LAST-MODIFIED:20240705T113144Z
UID:4264-1722610800-1722621600@gruenauer-kultursommer.de
SUMMARY:GRAND BEAUTY SALON
DESCRIPTION:Dein GRAND BEAUTY SALON ist ein transkultureller Salon für Schönes\, Diversität und Dialog in Leipzig-Grünau\, zum Wohlfühlen\, Austauschen und Dich neu entdecken.\nWir feiern Diversität. Hier leben Empathie und Solidarität. Sei Du selbst und lerne anderes kennen. Wir sind offen für Dich. Was gibst Du zurück? \nFast jeden Freitagnachmittag zwischen 15 – 18 Uhr kannst Du Dich beim BEAUTY EXCHANGE oder beim LADIES SALON von uns inspirieren\, verwöhnen und beraten lassen: \nHaare schneiden oder stylen\, schminken\, Augenbrauen formen oder Gesichter massieren – es ist für jede:n etwas dabei. \nJedoch nicht später als 17 Uhr. Damit noch Zeit für unseren BEAUTY EXCHANGE bleibt. Die Teilnahme ist kostenlos. \nCheck unser Programm\, um zu sehen\, wann Du uns wo treffen kannst.
URL:https://gruenauer-kultursommer.de/veranstaltung/grand-beauty-salon/
LOCATION:Völkerfreundschaft (Völle)\, Stuttgarter Allee 9\, Leipzig\, 04209\, Deutschland
CATEGORIES:Aktion zum Mitmachen,Begegnung & Diskussion,Sonstiges
ATTACH;FMTTYPE=image/jpeg:https://gruenauer-kultursommer.de/wp-content/uploads/2024/07/08_02-GrandBeauty.jpg
END:VEVENT
END:VCALENDAR