BEGIN:VCALENDAR
VERSION:2.0
PRODID:-//Grünauer Kultursommer 2026 - ECPv6.15.15//NONSGML v1.0//EN
CALSCALE:GREGORIAN
METHOD:PUBLISH
X-WR-CALNAME:Grünauer Kultursommer 2026
X-ORIGINAL-URL:https://gruenauer-kultursommer.de
X-WR-CALDESC:Veranstaltungen für Grünauer Kultursommer 2026
REFRESH-INTERVAL;VALUE=DURATION:PT1H
X-Robots-Tag:noindex
X-PUBLISHED-TTL:PT1H
BEGIN:VTIMEZONE
TZID:Europe/Berlin
BEGIN:DAYLIGHT
TZOFFSETFROM:+0100
TZOFFSETTO:+0200
TZNAME:CEST
DTSTART:20230326T010000
END:DAYLIGHT
BEGIN:STANDARD
TZOFFSETFROM:+0200
TZOFFSETTO:+0100
TZNAME:CET
DTSTART:20231029T010000
END:STANDARD
BEGIN:DAYLIGHT
TZOFFSETFROM:+0100
TZOFFSETTO:+0200
TZNAME:CEST
DTSTART:20240331T010000
END:DAYLIGHT
BEGIN:STANDARD
TZOFFSETFROM:+0200
TZOFFSETTO:+0100
TZNAME:CET
DTSTART:20241027T010000
END:STANDARD
BEGIN:DAYLIGHT
TZOFFSETFROM:+0100
TZOFFSETTO:+0200
TZNAME:CEST
DTSTART:20250330T010000
END:DAYLIGHT
BEGIN:STANDARD
TZOFFSETFROM:+0200
TZOFFSETTO:+0100
TZNAME:CET
DTSTART:20251026T010000
END:STANDARD
END:VTIMEZONE
BEGIN:VEVENT
DTSTART;TZID=Europe/Berlin:20240814T100000
DTEND;TZID=Europe/Berlin:20240814T100000
DTSTAMP:20260422T203250
CREATED:20240619T141920Z
LAST-MODIFIED:20240619T141920Z
UID:4226-1723629600-1723629600@gruenauer-kultursommer.de
SUMMARY:"Alle Fische machen Blubb" - Ein Tiefseeabenteuer
DESCRIPTION:Theaterprojekt für Kinder (ab 2 Jahren). \n„Alle Fische machen Blubb“ ist ein Theatererlebnis für alle ab zwei Jahren. Es verbindet Puppentheater mit Musik und Installationskunst – und lädt zum Entdecken einer schillernden\, glitzernden und blubbernden Tiefseewelt ein. Begleitet ein kleines\, scheues Wesen vom Moment seines Schlüpfens bis hin zu seinen ersten Abenteuern. Aus einem ängstlichen Tierchen wird durch Liebe\, Vertrauen und Geborgenheit ein mutiges Tier. \nEintritt 3\,-€ (oder frei)
URL:https://gruenauer-kultursommer.de/veranstaltung/alle-fische-machen-blubb-ein-tiefseeabenteuer/
LOCATION:Theatrium Leipzig\, Alte Salzstraße 59\, Leipzig\, 04209\, Deutschland
CATEGORIES:Aktion zum Mitmachen,Theater
ATTACH;FMTTYPE=image/jpeg:https://gruenauer-kultursommer.de/wp-content/uploads/2024/06/08_14-blubb_02-klein.jpg
ORGANIZER;CN="Eva-Maria Schneider":MAILTO:evamariaschneiderlein@gmail.com
END:VEVENT
END:VCALENDAR