BEGIN:VCALENDAR
VERSION:2.0
PRODID:-//Grünauer Kultursommer 2026 - ECPv6.15.15//NONSGML v1.0//EN
CALSCALE:GREGORIAN
METHOD:PUBLISH
X-WR-CALNAME:Grünauer Kultursommer 2026
X-ORIGINAL-URL:https://gruenauer-kultursommer.de
X-WR-CALDESC:Veranstaltungen für Grünauer Kultursommer 2026
REFRESH-INTERVAL;VALUE=DURATION:PT1H
X-Robots-Tag:noindex
X-PUBLISHED-TTL:PT1H
BEGIN:VTIMEZONE
TZID:Europe/Berlin
BEGIN:DAYLIGHT
TZOFFSETFROM:+0100
TZOFFSETTO:+0200
TZNAME:CEST
DTSTART:20210328T010000
END:DAYLIGHT
BEGIN:STANDARD
TZOFFSETFROM:+0200
TZOFFSETTO:+0100
TZNAME:CET
DTSTART:20211031T010000
END:STANDARD
BEGIN:DAYLIGHT
TZOFFSETFROM:+0100
TZOFFSETTO:+0200
TZNAME:CEST
DTSTART:20220327T010000
END:DAYLIGHT
BEGIN:STANDARD
TZOFFSETFROM:+0200
TZOFFSETTO:+0100
TZNAME:CET
DTSTART:20221030T010000
END:STANDARD
BEGIN:DAYLIGHT
TZOFFSETFROM:+0100
TZOFFSETTO:+0200
TZNAME:CEST
DTSTART:20230326T010000
END:DAYLIGHT
BEGIN:STANDARD
TZOFFSETFROM:+0200
TZOFFSETTO:+0100
TZNAME:CET
DTSTART:20231029T010000
END:STANDARD
BEGIN:DAYLIGHT
TZOFFSETFROM:+0100
TZOFFSETTO:+0200
TZNAME:CEST
DTSTART:20240331T010000
END:DAYLIGHT
BEGIN:STANDARD
TZOFFSETFROM:+0200
TZOFFSETTO:+0100
TZNAME:CET
DTSTART:20241027T010000
END:STANDARD
BEGIN:DAYLIGHT
TZOFFSETFROM:+0100
TZOFFSETTO:+0200
TZNAME:CEST
DTSTART:20250330T010000
END:DAYLIGHT
BEGIN:STANDARD
TZOFFSETFROM:+0200
TZOFFSETTO:+0100
TZNAME:CET
DTSTART:20251026T010000
END:STANDARD
BEGIN:DAYLIGHT
TZOFFSETFROM:+0100
TZOFFSETTO:+0200
TZNAME:CEST
DTSTART:20260329T010000
END:DAYLIGHT
BEGIN:STANDARD
TZOFFSETFROM:+0200
TZOFFSETTO:+0100
TZNAME:CET
DTSTART:20261025T010000
END:STANDARD
END:VTIMEZONE
BEGIN:VEVENT
DTSTART;TZID=Europe/Berlin:20250822T180000
DTEND;TZID=Europe/Berlin:20250822T200000
DTSTAMP:20260420T120012
CREATED:20250711T083739Z
LAST-MODIFIED:20250711T083739Z
UID:4758-1755885600-1755892800@gruenauer-kultursommer.de
SUMMARY:Herje Mine (live)
DESCRIPTION:Die Leipziger Band HERJE MINE hat sich der Balkanmusik verschrieben. Die Doppelpreisträger des 31. Folk-Herbst-Festivals 2024 sind endlich wieder bei uns in Grünau! Fünf Musikerinnen aus Polen\, Israel\, Venezuela und Deutschland wecken in euch heute die Sehnsucht nach der Ferne und bringen euch auf dem Bauspielplatz zum Tanzen.
URL:https://gruenauer-kultursommer.de/veranstaltung/herje-mine-live/
LOCATION:Bauspielplatz Caritas Familienzentrum\, Ringstraße 2\, Leipzig\, 04209
CATEGORIES:Konzert
ATTACH;FMTTYPE=image/avif:https://gruenauer-kultursommer.de/wp-content/uploads/2025/07/08_22-HerjeMine.avif
END:VEVENT
BEGIN:VEVENT
DTSTART;TZID=Europe/Berlin:20250731T093000
DTEND;TZID=Europe/Berlin:20250731T153000
DTSTAMP:20260420T120012
CREATED:20250617T122851Z
LAST-MODIFIED:20250617T123026Z
UID:4664-1753954200-1753975800@gruenauer-kultursommer.de
SUMMARY:"Kleine Welten" - Kunst unter freiem Himmel
DESCRIPTION:(Start: Caritas Familienzentrum) +++ Mit der Künstlerin Viktoria Scholz zieht es uns in den Robert-Koch-Park. Die Natur bietet alle Materialien\, die es braucht\, um künstlerisch tätig zu werden. Wir schrumpfen heute auf Wichtelgröße und bauen uns ein neues Zuhause. Es entstehen Hütten\, Paläste\, Terrassen\, Höhlen\, Straßen\, Nester\, Gärten und Mobiles aus Naturmaterial. Eurer Fantasie sind keine Grenzen gesetzt. Wir können Blätter sortieren\, mit Naturfarben Steine oder Holze bemalen\, mit Gräsern flechten oder mit Rinden und Ästen Dächer und Türme bauen. \nWir starten gemeinsam am Caritas Familienzentrum.
URL:https://gruenauer-kultursommer.de/veranstaltung/kleine-welten-kunst-unter-freiem-himmel/
LOCATION:Robert-Koch-Park\, Leipzig
CATEGORIES:Aktion zum Mitmachen,Begegnung & Diskussion,Führung & Rundgang,open air,Performance & Interaction
ATTACH;FMTTYPE=image/jpeg:https://gruenauer-kultursommer.de/wp-content/uploads/2025/06/07_31-viktoria-scholz-objektkuenstlerin-leipzig-826x1240_web.jpg
END:VEVENT
BEGIN:VEVENT
DTSTART;TZID=Europe/Berlin:20250703T103000
DTEND;TZID=Europe/Berlin:20250703T130000
DTSTAMP:20260420T120012
CREATED:20250613T080848Z
LAST-MODIFIED:20250613T080848Z
UID:4580-1751538600-1751547600@gruenauer-kultursommer.de
SUMMARY:"Komm wie Du bist" - Tanzworkshop
DESCRIPTION:Komm wie du bist und probier dich aus. Gemeinsam mit Lisa Giebel\, Tanzpädagogin\, Tänzerin und Choreographin\, gehen wir heute in tänzerische Bewegungen. Für alle\, die gerne tanzen und vor allem auch für die\, die einfach mal ausprobieren möchten. Angebote für Familien und Einzelpersonen.
URL:https://gruenauer-kultursommer.de/veranstaltung/komm-wie-du-bist-tanzworkshop/
LOCATION:Caritasverband Leipzig e.V. / Kinder-\, Jugend- und Familienzentrum\, Ringstr. 2\, Leipzig\, 04209\, Deutschland
CATEGORIES:Aktion zum Mitmachen,Performance & Interaction,Tanz
ATTACH;FMTTYPE=image/jpeg:https://gruenauer-kultursommer.de/wp-content/uploads/2025/06/07_03-Tanzworkshop.jpg
END:VEVENT
BEGIN:VEVENT
DTSTART;TZID=Europe/Berlin:20250627T170000
DTEND;TZID=Europe/Berlin:20250627T193000
DTSTAMP:20260420T120012
CREATED:20250609T161248Z
LAST-MODIFIED:20250609T161305Z
UID:4561-1751043600-1751052600@gruenauer-kultursommer.de
SUMMARY:Swing und Jazz Lounge im Grünen
DESCRIPTION:The JazzConnection ist eine Leipziger Band. Die ehemalige Schülerband der Thomanerschule spielt heute unter freiem Himmel und lädt alle zum swingen und entspannen ein. Liegestühle\, alkoholfreie Cocktails und Summerfeeling garantiert. Der perfekte Start in die Sommerferien!
URL:https://gruenauer-kultursommer.de/veranstaltung/swing-und-jazz-lounge-im-gruenen/
LOCATION:Caritasverband Leipzig e.V. / Kinder-\, Jugend- und Familienzentrum\, Ringstr. 2\, Leipzig\, 04209\, Deutschland
CATEGORIES:Konzert,open air
ATTACH;FMTTYPE=image/jpeg:https://gruenauer-kultursommer.de/wp-content/uploads/2025/06/Caritas.jpg
END:VEVENT
BEGIN:VEVENT
DTSTART;VALUE=DATE:20250614
DTEND;VALUE=DATE:20250616
DTSTAMP:20260420T120012
CREATED:20250608T130935Z
LAST-MODIFIED:20250608T131113Z
UID:4498-1749866400-1749952799@gruenauer-kultursommer.de
SUMMARY:Grünau on stage! - Eröffnung des Grünauer Kultursommers 2025
DESCRIPTION:Am 14. Juni startet offiziell der diesjährige Grünauer Kultursommer – das ebenso beliebte wie traditionsreiche Kulturfestival!\nIn diesem Jahr wird das Kulturfestival mit einem absoluten Highlight eröffnet:\nZur Eröffnung heißt es diesmal Grünau on stage!\nAuf drei Bühnen und an weiteren Standorten geht der Grünauer Kultursommer in die Vollen. Auf den Marktplätzen an der Grünauer Allee (WK 2 / ab 10:30 Uhr)\, in Grünau-Mitte (WK 4 / ab 14:00 Uhr) und Grünau-Nord (Jupiterplatz / WK 7 / ab 16:00) wird einen ganzen Tag lang Kultur und Kunst für die ganze Familie geboten. \n+++ \nGrünauer wird´s nicht – Das Programm \n \nStandort 1 – Marktplatz an der Grünauer Allee (WK 2) – ab 10:30 Uhr\n– „Chaos im Kinderzimmer“ *ab 4 Jahren\n– „Vom Ende der Zeit“ / Mobiles Puppentheater *ab 6 Jahren\n– Heizhaus-Breaking-Gruppe\n– Kaffee und Kuchen + Mitmachaktion\n– Fahnenwerkstatt (inkl. Umzug nach Grünau-Mitte) *ab 7 Jahren\n– MdbK-Velo \nStandort 2 – Marktplatz Grünau-Mitte (WK 4) – ab 14:00 Uhr\n– Zirkomania / Zirkus Mitmach-Fläche\n– Zirkus Morsa / Straßenzirkus\n– „Human“ / Ein ICELAB-Tanzstück für mehr Menschlichkeit *ab 6 Jahren\n– Bella Grünau Mitmach-Pizzeria\n– Fahnenerkstatt (inkl. Umzug aus Grünau-Ost) *ab 7 Jahren\n– MdbK-Velo \nStandort 3 – Marktplatz Grünau-Nord (Jupiterplatz WK 7) – ab 16:00 Uhr\n– Aerophilia / Luftakrobatik\n– Zirkus Morsa / Straßenzirkus\n– DJ-Kollektiv Brotfabrik- Riod\n– Feuershow\n– Greater Forms\n– Alien-Mitmachwerkstatt *ab 7 Jahren \nPicknickwiese am Haus (Robert-Koch-Park)\n– für Groß und Klein\, Familien und Ausflügler*innen mit Glücksrad und dem „heißen Draht“ \n+++\nAktuelle Infos gibt es hier in der Facebook-Veranstaltung. \n+++ \nDiese Veranstaltung wird im Rahmen des Grünauer Kultursommers gefördert.
URL:https://gruenauer-kultursommer.de/veranstaltung/eroeffnung-des-gruenauer-kultursommers-gruenau-on-stage/
LOCATION:Ganz Grünau\, Leipzig
CATEGORIES:Aktion zum Mitmachen,Ausstellung,Begegnung & Diskussion,Familien- / Nachbarschaftsfest,Konzert,open air,Performance & Interaction,Tagesevent / Festival,Tanz,Theater
ATTACH;FMTTYPE=image/jpeg:https://gruenauer-kultursommer.de/wp-content/uploads/2025/06/gks2025_facebook_event_eroeffnung.jpg
END:VEVENT
BEGIN:VEVENT
DTSTART;TZID=Europe/Berlin:20240907T140000
DTEND;TZID=Europe/Berlin:20240907T140000
DTSTAMP:20260420T120012
CREATED:20240716T080148Z
LAST-MODIFIED:20240716T080148Z
UID:4331-1725717600-1725717600@gruenauer-kultursommer.de
SUMMARY:Konzert "Kinder spielen für Kinder"
DESCRIPTION:Sieben verschiedenen Blas- und Streichinstrumente gespielt von Kindern zum Kennenlernen und Musik erleben.\nDie Musikpädagogin steht den Eltern für Fragen rund ums Thema Musikförderung und Instrumentenwahl zur Verfügung. Sprachmittler*innen (arabisch\, russisch) werden an diesem Tag vor Ort sein und Familien die Kommunikation gegebenenfalls erleichtern/ermöglichen.\nDas Konzert ist eingebettet Rahmen eines Familientages\, der von 11:00-15:00 Uhr auf dem Bauspielplatz stattfindet und beinhaltet Mitmachaktionen.
URL:https://gruenauer-kultursommer.de/veranstaltung/konzert-kinder-spielen-fuer-kinder/
LOCATION:Caritasverband Leipzig e.V. / Kinder-\, Jugend- und Familienzentrum\, Ringstr. 2\, Leipzig\, 04209\, Deutschland
CATEGORIES:Familien- / Nachbarschaftsfest,Konzert,open air
ATTACH;FMTTYPE=image/jpeg:https://gruenauer-kultursommer.de/wp-content/uploads/2024/07/09_07-Caritas_Kinder-spielen-fuer-Kinder2.jpg
END:VEVENT
BEGIN:VEVENT
DTSTART;TZID=Europe/Berlin:20240826T140000
DTEND;TZID=Europe/Berlin:20240826T160000
DTSTAMP:20260420T120012
CREATED:20240705T180835Z
LAST-MODIFIED:20240723T084026Z
UID:4286-1724680800-1724688000@gruenauer-kultursommer.de
SUMMARY:Kaffee und Lukullus- wir plaudern aus dem Nähkästchen
DESCRIPTION:Veranstaltung im Rahmen der Mehrgenerationenwoche –\n„Kaffee und Lukullus- wir plaudern aus dem Nähkästchen“ ist ein Projekt zur Sinnesaktivierung älterer Menschen. Auf einer reisenden Erinnerungsbühne werden durch Texte und Gegenstände Momente der Erinnerungen bei ältere Menschen aktiviert und das Erzählen und miteinander ins Gespräch kommen gefördert.
URL:https://gruenauer-kultursommer.de/veranstaltung/kaffee-und-lukullus-wir-plaudern-aus-dem-naehkaestchen/
LOCATION:Ev.-Luth. Pauluskirche Leipzig-Grünau\, Alte Salzstraße 185\, Leipzig\, 04209
CATEGORIES:Begegnung & Diskussion
ATTACH;FMTTYPE=image/jpeg:https://gruenauer-kultursommer.de/wp-content/uploads/2024/07/06_29-Caritas_logo.jpg
END:VEVENT
BEGIN:VEVENT
DTSTART;TZID=Europe/Berlin:20240823T180000
DTEND;TZID=Europe/Berlin:20240823T200000
DTSTAMP:20260420T120012
CREATED:20240705T114339Z
LAST-MODIFIED:20240705T114424Z
UID:4277-1724436000-1724443200@gruenauer-kultursommer.de
SUMMARY:Live-Konzert beim großen Familientag am Familienzentrum Grünau
DESCRIPTION:Live: Sessiones del Sur – Das Konzert\, Mischung aus lateinamerikanischen und afrikanischen Klängen und Rhythmen\, soll nicht allein zum Zuhören sein. Das Konzert (70-90 min) soll aktivieren und zum Tanzen auffordern. Mitarbeitende des Familienzentrums werden eine einfache\, leicht zu übernehmende Schrittreihe anleiten und die Menschen in Bewegung bringen.\nDie Band wurde wegen ihrer lateinamerikanischen Klänge gewählt. In den GUs kommen immer mehr Menschen aus Venezuela an\, denen\, neben all den Angebot für die arabischsprachigen und ukrainischen Communities\, die durch diese Konzert ein Willkommen geheißen werden sollen. \nVeranstaltungsort: Open-Air-Bühne mit Tanzfläche auf dem Bauspielplatz
URL:https://gruenauer-kultursommer.de/veranstaltung/live-konzert-beim-grossen-familientag-am-familienzentrum-gruenau/
LOCATION:Caritasverband Leipzig e.V. / Kinder-\, Jugend- und Familienzentrum\, Ringstr. 2\, Leipzig\, 04209\, Deutschland
CATEGORIES:Familien- / Nachbarschaftsfest,Konzert
ATTACH;FMTTYPE=image/webp:https://gruenauer-kultursommer.de/wp-content/uploads/2024/07/08_23-Sessiones-del-sur.webp
END:VEVENT
BEGIN:VEVENT
DTSTART;TZID=Europe/Berlin:20240718T100000
DTEND;TZID=Europe/Berlin:20240718T100000
DTSTAMP:20260420T120012
CREATED:20240603T182051Z
LAST-MODIFIED:20240603T182051Z
UID:4136-1721296800-1721296800@gruenauer-kultursommer.de
SUMMARY:Capoeira Angola - Workshop für Einsteiger*innen
DESCRIPTION:Kampfkunst. Tanz. Musik.\n \nFür Familien mit Kindern ab 9 Jahren oder Einzelpersonen.\nCapoeira Angola ist ein brasilianischer Kampfsport. Entwickelt durch die afrikanischen Sklaven in Brasilien\, hat sich diese Kultur des Widerstands bis heute erhalten und weiter entwickelt. Die Capoeira verbindet in einzigartiger Weise die Elemente des körperlichen Trainings\, des musikalischen Ausdrucks und der kämpferisch-spielerischen Interaktion mit dem Gegenüber. Unter Anleitung des Trainers Acacio da Silva werden an zwei zusammenhängenden Tagen der kulturelle Hintergrund\, die Musik und die Bewegung vermittelt.
URL:https://gruenauer-kultursommer.de/veranstaltung/capoeira-angola-workshop-fuer-einsteigerinnen-2/
LOCATION:Caritasverband Leipzig e.V. / Kinder-\, Jugend- und Familienzentrum\, Ringstr. 2\, Leipzig\, 04209\, Deutschland
CATEGORIES:Aktion zum Mitmachen,Begegnung & Diskussion,Kurs / Workshop
ATTACH;FMTTYPE=image/jpeg:https://gruenauer-kultursommer.de/wp-content/uploads/2024/06/07_17-Capoeira4.jpg
END:VEVENT
BEGIN:VEVENT
DTSTART;TZID=Europe/Berlin:20240717T100000
DTEND;TZID=Europe/Berlin:20240717T100000
DTSTAMP:20260420T120012
CREATED:20240603T181945Z
LAST-MODIFIED:20240603T181945Z
UID:4133-1721210400-1721210400@gruenauer-kultursommer.de
SUMMARY:Capoeira Angola - Workshop für Einsteiger*innen
DESCRIPTION:Kampfkunst. Tanz. Musik.\n \nFür Familien mit Kindern ab 9 Jahren oder Einzelpersonen.\nCapoeira Angola ist ein brasilianischer Kampfsport. Entwickelt durch die afrikanischen Sklaven in Brasilien\, hat sich diese Kultur des Widerstands bis heute erhalten und weiter entwickelt. Die Capoeira verbindet in einzigartiger Weise die Elemente des körperlichen Trainings\, des musikalischen Ausdrucks und der kämpferisch-spielerischen Interaktion mit dem Gegenüber. Unter Anleitung des Trainers Acacio da Silva werden an zwei zusammenhängenden Tagen der kulturelle Hintergrund\, die Musik und die Bewegung vermittelt.
URL:https://gruenauer-kultursommer.de/veranstaltung/capoeira-angola-workshop-fuer-einsteigerinnen/
LOCATION:Caritasverband Leipzig e.V. / Kinder-\, Jugend- und Familienzentrum\, Ringstr. 2\, Leipzig\, 04209\, Deutschland
CATEGORIES:Aktion zum Mitmachen,Begegnung & Diskussion,Kurs / Workshop
ATTACH;FMTTYPE=image/jpeg:https://gruenauer-kultursommer.de/wp-content/uploads/2024/06/07_17-Capoeira3.jpg
END:VEVENT
BEGIN:VEVENT
DTSTART;TZID=Europe/Berlin:20240703T140000
DTEND;TZID=Europe/Berlin:20240703T160000
DTSTAMP:20260420T120012
CREATED:20240603T174123Z
LAST-MODIFIED:20240603T182415Z
UID:4103-1720015200-1720022400@gruenauer-kultursommer.de
SUMMARY:Trommelworkshop - let´s talk with drums
DESCRIPTION:Ohne Worte kommunizieren\, über die Grenzen von Kultur\, Sprache\, Geschlecht oder Alter hinweg. Trommellehrer Najib führt in den Umgang mit verschiedenen Trommeln ein\, lässt uns mit dem Rhythmus sprechen und in einen Dialog jenseits von Worten kommen. Einführung und leichte Übungen für alle und zum Nachahmen zuhause.
URL:https://gruenauer-kultursommer.de/veranstaltung/trommelworkshop-lets-talk-with-drums-2/
LOCATION:KiFaZ „Rasselbande“\, Ringstr. 2\, Leipzig\, 04209\, Deutschland
CATEGORIES:Aktion zum Mitmachen,Kurs / Workshop,Performance & Interaction
ATTACH;FMTTYPE=image/webp:https://gruenauer-kultursommer.de/wp-content/uploads/2024/06/07_03-trommel.webp
END:VEVENT
BEGIN:VEVENT
DTSTART;TZID=Europe/Berlin:20240703T100000
DTEND;TZID=Europe/Berlin:20240703T120000
DTSTAMP:20260420T120012
CREATED:20240603T173830Z
LAST-MODIFIED:20240603T173830Z
UID:4100-1720000800-1720008000@gruenauer-kultursommer.de
SUMMARY:Trommelworkshop - let´s talk with drums
DESCRIPTION:Ohne Worte kommunizieren\, über die Grenzen von Kultur\, Sprache\, Geschlecht oder Alter hinweg. Trommellehrer Najib führt in den Umgang mit verschiedenen Trommeln ein\, lässt uns mit dem Rhythmus sprechen und in einen Dialog jenseits von Worten kommen. Einführung und leichte Übungen für alle und zum Nachahmen zuhause.
URL:https://gruenauer-kultursommer.de/veranstaltung/trommelworkshop-lets-talk-with-drums/
LOCATION:Caritasverband Leipzig e.V. / Kinder-\, Jugend- und Familienzentrum\, Ringstr. 2\, Leipzig\, 04209\, Deutschland
CATEGORIES:Aktion zum Mitmachen,Kurs / Workshop,Performance & Interaction
ATTACH;FMTTYPE=image/jpeg:https://gruenauer-kultursommer.de/wp-content/uploads/2024/06/07_03-Caritas_Trommelworkshop.jpg
END:VEVENT
BEGIN:VEVENT
DTSTART;TZID=Europe/Berlin:20230908T180000
DTEND;TZID=Europe/Berlin:20230908T180000
DTSTAMP:20260420T120012
CREATED:20230713T124504Z
LAST-MODIFIED:20230713T124504Z
UID:3859-1694196000-1694196000@gruenauer-kultursommer.de
SUMMARY:"Ein Musikballon fliegt aus meinem Saxophon"
DESCRIPTION:Familienkonzert mit Vadim Tiron – Zum Abschluss der Mehrgenerationenwoche am Caritas Familienzentrum konzertiert der ukrainische Saxophonist Vadim Tiron unter freiem Himmel und lässt uns zu Melodien und Lieder träumen\, tanzen und lauschen. Ein Konzert auch für Kinder\, denn Tanz und Bewegung sind erwünscht und keine*r muss extra ordentlich sein.\nAktionen am Haus ab 15:00 Uhr. Wir laden alle ein\, das Familienzentrum kennenzulernen und in alle Räume zu schnuppern. Wie funktioniert eine Elternberatung? Was macht das STINKTIER-Projekt mit Schulklassen im Haus? Wir öffnen alle Räume und Schränke und stehen für Fragen bereit. \nMehr Informationen unter https://www.caritas-leipzig.de/
URL:https://gruenauer-kultursommer.de/veranstaltung/ein-musikballon-fliegt-aus-meinem-saxophon/
LOCATION:Caritasverband Leipzig e.V. / Kinder-\, Jugend- und Familienzentrum\, Ringstr. 2\, Leipzig\, 04209\, Deutschland
CATEGORIES:Aktion zum Mitmachen,Begegnung & Diskussion,Familien- / Nachbarschaftsfest,Konzert,open air
ATTACH;FMTTYPE=image/jpeg:https://gruenauer-kultursommer.de/wp-content/uploads/2023/07/09_08-Caritas_Saxophonkonzert.jpg
END:VEVENT
BEGIN:VEVENT
DTSTART;TZID=Europe/Berlin:20230905T160000
DTEND;TZID=Europe/Berlin:20230905T160000
DTSTAMP:20260420T120012
CREATED:20230713T124120Z
LAST-MODIFIED:20230713T124120Z
UID:3856-1693929600-1693929600@gruenauer-kultursommer.de
SUMMARY:Flower Power for all generations!
DESCRIPTION:Ausstellungseröffnung des Projektes Flower-Power – „The world is dark and grey- maybe. But inside of me\, I feel a flower-power energy!“ Unter diesem Titel sind über den Sommer mehrere Foto-Portraits verschiedener Menschen entstanden\, die ihre eigene Flower-Power zum Ausdruck gebracht haben. Wir laden heute zur Ausstellungseröffnung ein! Kommt in eure Flower-Power und werdet lebende Flower-Kunstwerke. \nMehr Informationen untern https://www.caritas-leipzig.de/
URL:https://gruenauer-kultursommer.de/veranstaltung/flower-power-for-all-generations/
LOCATION:Caritasverband Leipzig e.V. / Kinder-\, Jugend- und Familienzentrum\, Ringstr. 2\, Leipzig\, 04209\, Deutschland
CATEGORIES:Ausstellung,Begegnung & Diskussion
ATTACH;FMTTYPE=image/jpeg:https://gruenauer-kultursommer.de/wp-content/uploads/2023/07/06_29-Caritas_logo.jpg
END:VEVENT
BEGIN:VEVENT
DTSTART;TZID=Europe/Berlin:20230817T103000
DTEND;TZID=Europe/Berlin:20230817T103000
DTSTAMP:20260420T120012
CREATED:20230713T073055Z
LAST-MODIFIED:20230713T073055Z
UID:3794-1692268200-1692268200@gruenauer-kultursommer.de
SUMMARY:Schmetterlingskonzert für Familien
DESCRIPTION:Banduraklänge beflügeln uns – Ab 10:30 können sich Familien zum Thema Schmetterlinge kreativ auf das Konzert vorbereiten. Mittagessen im Zentrum ist möglich. Das Kinder- und Familienkonzert startet 14:00 Uhr in unserem bunten Musikpavillon im Vorgarten und lädt alle zum träumen\, tanzen und zuhören ein. \nMehr Informationen unter www.caritas-leipzig.de und Instagram.
URL:https://gruenauer-kultursommer.de/veranstaltung/schmetterlingskonzert-fuer-familien/
LOCATION:Caritasverband Leipzig e.V. / Kinder-\, Jugend- und Familienzentrum\, Ringstr. 2\, Leipzig\, 04209\, Deutschland
CATEGORIES:Aktion zum Mitmachen,Begegnung & Diskussion,Familien- / Nachbarschaftsfest,Hörkunst,Konzert
ATTACH;FMTTYPE=image/jpeg:https://gruenauer-kultursommer.de/wp-content/uploads/2023/07/08_17-Caritas_bandura-g0b0947f39_1920.jpg
END:VEVENT
BEGIN:VEVENT
DTSTART;TZID=Europe/Berlin:20230815T100000
DTEND;TZID=Europe/Berlin:20230815T100000
DTSTAMP:20260420T120012
CREATED:20230524T135549Z
LAST-MODIFIED:20230712T062929Z
UID:3733-1692093600-1692093600@gruenauer-kultursommer.de
SUMMARY:"Helfe-Elfe Magda auf der Insel Arran"
DESCRIPTION:Kinder- und Familienlesung im Gartenpavillion – Elfen lieben den Morgen und den Abend\, so auch unsere Helfe- Elfe. Micha Oertel und Malu Sieber nehmen uns mit auf die Reise der Elfe Magda. Und wer mag\, der kann im Anschluss im Familienzentrum noch günstig zu Mittag essen. Was es gibt? Na\, das Lieblingsessen der Elfe natürlich. \nWeitere Infos unter www.caritas-leipzig.de und Instagram
URL:https://gruenauer-kultursommer.de/veranstaltung/helfe-elfe-magda-auf-der-insel-arran/
LOCATION:Caritasverband Leipzig e.V. / Kinder-\, Jugend- und Familienzentrum\, Ringstr. 2\, Leipzig\, 04209\, Deutschland
CATEGORIES:Aktion zum Mitmachen,Lesung
ATTACH;FMTTYPE=image/jpeg:https://gruenauer-kultursommer.de/wp-content/uploads/2023/05/08_15-Caritas_HelfeElfe2.jpg
END:VEVENT
BEGIN:VEVENT
DTSTART;TZID=Europe/Berlin:20230710T150000
DTEND;TZID=Europe/Berlin:20230710T150000
DTSTAMP:20260420T120012
CREATED:20230524T124505Z
LAST-MODIFIED:20230524T124505Z
UID:3713-1689001200-1689001200@gruenauer-kultursommer.de
SUMMARY:"Die Welt durch die Augen ukrainischer Kinder"
DESCRIPTION:Vernissage zur Ausstellung der Malklasse von Natalya Kurulyk – Seit Dezember 2022 malen 17 ukrainische Kinder im Alter von 8-15 Jahren wöchentlich unter der Leitung der ukrainischen Kunstpädagogin Nathalia Kurulyk. Sie haben in dieser Zeit eindrückliche Bilder ihrer eigenen Lebensrealität erschaffen\, die jetzt ausgestellt werden. Und weil Farben und Malerei anstecken können\, gibt es natürlich auch die Möglichkeit selbst etwas auszuprobieren.
URL:https://gruenauer-kultursommer.de/veranstaltung/die-welt-durch-die-augen-ukrainischer-kinder/
LOCATION:Caritasverband Leipzig e.V. / Kinder-\, Jugend- und Familienzentrum\, Ringstr. 2\, Leipzig\, 04209\, Deutschland
CATEGORIES:Ausstellung,Begegnung & Diskussion
ATTACH;FMTTYPE=image/jpeg:https://gruenauer-kultursommer.de/wp-content/uploads/2023/05/06_29-Caritas_logo-1.jpg
END:VEVENT
BEGIN:VEVENT
DTSTART;TZID=Europe/Berlin:20230629T090000
DTEND;TZID=Europe/Berlin:20230629T090000
DTSTAMP:20260420T120012
CREATED:20230523T193902Z
LAST-MODIFIED:20230523T194343Z
UID:3636-1688029200-1688029200@gruenauer-kultursommer.de
SUMMARY:Tschau Tschau Bambina...!
DESCRIPTION:Ein lustiges Schlagerfrühstück mit Abschiedstönen – Sommerfrühstück im Familienzentrum und dazu lustige Klänge\, die jede*r kennt und gerne trällert. Für alte und junge Menschen\, die keine Angst vor Schlagern haben. Und natürlich darf getanzt werden. \nFrühstück für 3\,50 € oder 2\,-€ ermäßigt.
URL:https://gruenauer-kultursommer.de/veranstaltung/tschau-tschau-bambina/
LOCATION:Caritasverband Leipzig e.V. / Kinder-\, Jugend- und Familienzentrum\, Ringstr. 2\, Leipzig\, 04209\, Deutschland
CATEGORIES:Begegnung & Diskussion,Tanz
ATTACH;FMTTYPE=image/jpeg:https://gruenauer-kultursommer.de/wp-content/uploads/2023/05/06_29-Caritas_logo.jpg
END:VEVENT
BEGIN:VEVENT
DTSTART;TZID=Europe/Berlin:20220909T210000
DTEND;TZID=Europe/Berlin:20220909T230000
DTSTAMP:20260420T120012
CREATED:20220630T132108Z
LAST-MODIFIED:20220701T100013Z
UID:2799-1662757200-1662764400@gruenauer-kultursommer.de
SUMMARY:"Max und die wilde 7" // Openair-Kino für die ganze Familie
DESCRIPTION:Am Freitag\, den 09. September 2022 lädt das Caritas Familienzentrum und der Landesfilmdienst Sachsen ganz herzlich zum Openair-Kino für die ganze Familie ein! Ab 21 Uhr läuft im Caritas Familienzentrum der Film „Max und die wilde 7“ von Winfried Oelsner. (87min | FSK 0) \n+++ \nEin 9-jähriger Junge zieht in ein Altenheim auf einer alten Ritterburg. Die Mutter arbeitet dort als Pflegerin\, was ihm erst einmal gar nicht gefällt. Erst als ein Serieneinbrecher auf der Burg sein Unwesen treibt\, ändert sich alles. Mit einer Rentnerclique\, die aus drei besonderen Charakteren besteht\, versucht der junge Hobbydetektiv dem Verbrecher das Handwerk zu legen. Mit einem wunderbaren Witz\, schön unsentimental und toll gespielt erzählt der Film von der Annäherung und Freundschaft zwischen den Senioren und dem Kind. Dabei geht es ganz selbstverständlich und nachvollziehbar insbesondere um Werte wie Freundschaft\, Zusammenhalt und Selbstvertrauen\, wobei es bis zum letzten Moment spannend und kindgerecht bleibt. Empfehlenswert ab 8 Jahren! \n+++ \nDiese Veranstaltung wird im Rahmen des Grünauer Kultursommers gefördert.
URL:https://gruenauer-kultursommer.de/veranstaltung/max-und-die-wilde-7-openair-kino-fuer-die-ganze-familie/
LOCATION:Caritasverband Leipzig e.V. / Kinder-\, Jugend- und Familienzentrum\, Ringstr. 2\, Leipzig\, 04209\, Deutschland
CATEGORIES:Kino & Film
ATTACH;FMTTYPE=image/png:https://gruenauer-kultursommer.de/wp-content/uploads/2021/03/android-chrome-512x512-1.png
END:VEVENT
BEGIN:VEVENT
DTSTART;TZID=Europe/Berlin:20220904T100000
DTEND;TZID=Europe/Berlin:20220904T120000
DTSTAMP:20260420T120012
CREATED:20220505T144113Z
LAST-MODIFIED:20220721T092549Z
UID:2457-1662285600-1662292800@gruenauer-kultursommer.de
SUMMARY:Ökumenischer Gottesdienst | Schulanfang & Beginn der Ökum. Generationenwoche
DESCRIPTION:Die Ev.-Luth. Pauluskirche lädt die Grünauer:innen am Sonntag\, den 04. September 2022 um 10 Uhr gemeinsam mit dem Caritas Familienzentrum ganz herzlich zum ökumenischen Gottesdienst ein. \n+++ \nÖkumenischer Generationengottesdienst zum Schulanfang und zum Beginn der Ök. Generationenwoche.\nJung und Alt feiern\, beten und singen zusammen – die Generationen begegnen sich – welcher Schatz tut sich da auf! \n\nMit Pfarrer Andrzej Glombitza\, Pfarrer Sebastian Ziera\, Gemeindepädagogin Jeanette Rüger\, Sozialarbeiterin Inka Arabin\, Kirchenmusikerin Elke Zieschang und Team.
URL:https://gruenauer-kultursommer.de/veranstaltung/oekumenischer-gottesdienst-schulanfang-beginn-der-oekum-generationenwoche/
LOCATION:Kirchgarten\, Ev.-Luth. Pauluskirche Leipzig-Grünau\, Alte Salzstraße 185\, Leipzig\, 04209
CATEGORIES:Begegnung & Diskussion
ATTACH;FMTTYPE=image/png:https://gruenauer-kultursommer.de/wp-content/uploads/2021/03/android-chrome-512x512-1.png
END:VEVENT
BEGIN:VEVENT
DTSTART;TZID=Europe/Berlin:20220728T160000
DTEND;TZID=Europe/Berlin:20220728T190000
DTSTAMP:20260420T120012
CREATED:20220629T114722Z
LAST-MODIFIED:20220701T095724Z
UID:2733-1659024000-1659034800@gruenauer-kultursommer.de
SUMMARY:Markt der Köstlichkeiten - Ein kulinarisches Sommerfest // Caritas Familienzentrum & Malteser
DESCRIPTION:Am Donnerstag\, den 28. Juli 2022 lädt der Malteser Hilfsdienst  und die Caritas Leipzig zwischen 16 und 19 Uhr ganz herzlich ein zum Markt der Köstlichkeiten ein! \n+++ \nViele Länder- viele Köstlichkeit. Unsere Welt ist bunt und lecker! Reisen Sie mitten in Grünau mit allen Sinnen durch die Welt und genießen Sie frische Leckereien und schöne Musik im essbaren Garten des Familienzentrums. Fragen Sie die Köche direkt nach den Rezepten und genießen Sie einen Abend Kurzurlaub. \n+++ \nDiese Veranstaltung wird im Rahmen des Grünauer Kultursommers gefördert. \nFoto: privat
URL:https://gruenauer-kultursommer.de/veranstaltung/markt-der-koestlichkeiten-ein-kulinarisches-sommerfest-caritas-familienzentrum-malteser/
LOCATION:Caritasverband Leipzig e.V. / Kinder-\, Jugend- und Familienzentrum\, Ringstr. 2\, Leipzig\, 04209\, Deutschland
CATEGORIES:Aktion zum Mitmachen,Begegnung & Diskussion,Familien- / Nachbarschaftsfest,open air,Tagesevent / Festival
ATTACH;FMTTYPE=image/jpeg:https://gruenauer-kultursommer.de/wp-content/uploads/2022/06/ContactKitchen2-scaled-e1656503216776.jpg
END:VEVENT
END:VCALENDAR